BEGIN:VCALENDAR
VERSION:2.0
PRODID:-//UNIVERSITY OF TEXAS SCHOOL OF LAW//NONSGML Events Calendar v1.0//EN
X-WR-TIMEZONE:America/Chicago
BEGIN:VTIMEZONE
TZID:US/Central
X-LIC-LOCATION:America/Chicago
BEGIN:DAYLIGHT
TZOFFSETFROM:-0600
TZOFFSETTO:-0500
TZNAME:CDT
DTSTART:19700308T020000
RRULE:FREQ=YEARLY;BYMONTH=3;BYDAY=2SU
END:DAYLIGHT
BEGIN:STANDARD
TZOFFSETFROM:-0500
TZOFFSETTO:-0600
TZNAME:CST
DTSTART:19701101T020000
RRULE:FREQ=YEARLY;BYMONTH=11;BYDAY=1SU
END:STANDARD
END:VTIMEZONE
BEGIN:VEVENT
DTSTART;TZID=US/Central:20130402T120000
DTEND;VALUE=DATE-TIME;TZID=US/Central:20130402T130000

DTSTAMP:20260422T152900Z
CREATED:20130118T172100Z
LAST-MODIFIED:20130325T152600Z
UID:20130402T120000-15913@law.utexas.edu
SUMMARY:3L Job Search &amp; More
DESCRIPTION:<p>For 3Ls still seeking permanent employment, come learn about <a href="https://www.utexas.edu/law/career/roads/lclp.html">UT Law's Long Career Launch Program</a>. Strategies will be discussed on how to maximize the benefit of LCLP and similar postgraduate programs. You will also obtain practical advice on how to make your job search more efficient and productive. You may attend either the Tuesday or Thursday session. Lunch will be served. RSVP by Monday, April 1, on <a title="UT Law Symplicity" href="https://law-utexas-csm.symplicity.com/students/">UT Law Symplicity</a> by selecting the "Events" tab.</p>\n\nIf you need an accommodation to participate in this event, please contact the event sponsor or the Texas Law Special Events Office at specialevents@law.utexas.edu no later than seven business days prior to the event.
X-ALT-DESC;FMTTYPE=text/html:<p>For 3Ls still seeking permanent employment, come learn about <a href="https://www.utexas.edu/law/career/roads/lclp.html">UT Law's Long Career Launch Program</a>. Strategies will be discussed on how to maximize the benefit of LCLP and similar postgraduate programs. You will also obtain practical advice on how to make your job search more efficient and productive. You may attend either the Tuesday or Thursday session. Lunch will be served. RSVP by Monday, April 1, on <a title="UT Law Symplicity" href="https://law-utexas-csm.symplicity.com/students/">UT Law Symplicity</a> by selecting the "Events" tab.</p><p>If you need an accommodation to participate in this event, please contact the event
                                          event sponsor or the Texas Law Special Events Office at <a href="mailto:specialevents@law.utexas.edu">specialevents@law.utexas.edu</a> no later than seven business days prior to the event.</p>
CATEGORIES:Workshop / Training Program
LOCATION:TNH 3.124 - Neathery Classroom
URL:http://law.utexas.edu/calendar/2013/04/02/15913/
CLASS:PUBLIC
STATUS:CONFIRMED
COMMENT:Please contact Angelica Salinas Evans, Associate Director of Career Services, at <a href="mailto:aevans@law.utexas.edu">aevans@law.utexas.edu</a> in the CSO.
END:VEVENT
END:VCALENDAR