BEGIN:VCALENDAR
VERSION:2.0
PRODID:-//UNIVERSITY OF TEXAS SCHOOL OF LAW//NONSGML Events Calendar v1.0//EN
X-WR-TIMEZONE:America/Chicago
BEGIN:VTIMEZONE
TZID:US/Central
X-LIC-LOCATION:America/Chicago
BEGIN:DAYLIGHT
TZOFFSETFROM:-0600
TZOFFSETTO:-0500
TZNAME:CDT
DTSTART:19700308T020000
RRULE:FREQ=YEARLY;BYMONTH=3;BYDAY=2SU
END:DAYLIGHT
BEGIN:STANDARD
TZOFFSETFROM:-0500
TZOFFSETTO:-0600
TZNAME:CST
DTSTART:19701101T020000
RRULE:FREQ=YEARLY;BYMONTH=11;BYDAY=1SU
END:STANDARD
END:VTIMEZONE
BEGIN:VEVENT
DTSTART;TZID=US/Central:20130402T120000
DTEND;VALUE=DATE-TIME;TZID=US/Central:20130402T130000

DTSTAMP:20260422T164000Z
CREATED:20130329T153900Z
LAST-MODIFIED:20130401T152500Z
UID:20130402T120000-16470@law.utexas.edu
SUMMARY:Info Session - Human Rights Scholars
DESCRIPTION:<p>The Rapoport Center is currently accepting applications for the 2013-2014 Human Rights Scholars Program. Come to an info session to learn more. Current scholars Mark Dawson, Vanshika Vij, and Meredith Weaver will be available to talk about their experience and answer questions. Pizza will be provided.</p>\n\nIf you need an accommodation to participate in this event, please contact the event sponsor or the Texas Law Special Events Office at specialevents@law.utexas.edu no later than seven business days prior to the event.
X-ALT-DESC;FMTTYPE=text/html:<p>The Rapoport Center is currently accepting applications for the 2013-2014 Human Rights Scholars Program. Come to an info session to learn more. Current scholars Mark Dawson, Vanshika Vij, and Meredith Weaver will be available to talk about their experience and answer questions. Pizza will be provided.</p><p>If you need an accommodation to participate in this event, please contact the event
                                          event sponsor or the Texas Law Special Events Office at <a href="mailto:specialevents@law.utexas.edu">specialevents@law.utexas.edu</a> no later than seven business days prior to the event.</p>
CATEGORIES:Meeting
LOCATION:TNH 3.119F
URL:http://law.utexas.edu/calendar/2013/04/02/16470/
CLASS:PUBLIC
STATUS:CONFIRMED

END:VEVENT
END:VCALENDAR