BEGIN:VCALENDAR
VERSION:2.0
PRODID:-//UNIVERSITY OF TEXAS SCHOOL OF LAW//NONSGML Events Calendar v1.0//EN
X-WR-TIMEZONE:America/Chicago
BEGIN:VTIMEZONE
TZID:US/Central
X-LIC-LOCATION:America/Chicago
BEGIN:DAYLIGHT
TZOFFSETFROM:-0600
TZOFFSETTO:-0500
TZNAME:CDT
DTSTART:19700308T020000
RRULE:FREQ=YEARLY;BYMONTH=3;BYDAY=2SU
END:DAYLIGHT
BEGIN:STANDARD
TZOFFSETFROM:-0500
TZOFFSETTO:-0600
TZNAME:CST
DTSTART:19701101T020000
RRULE:FREQ=YEARLY;BYMONTH=11;BYDAY=1SU
END:STANDARD
END:VTIMEZONE
BEGIN:VEVENT
DTSTART;TZID=US/Central:20130403T113000
DTEND;VALUE=DATE-TIME;TZID=US/Central:20130403T123000

DTSTAMP:20260422T164000Z
CREATED:20130118T172300Z
LAST-MODIFIED:20130118T192200Z
UID:20130403T113000-15914@law.utexas.edu
SUMMARY:CANCELED: Public Service Debt Management
DESCRIPTION:<p>This workshop is designed for 3Ls entering public interest law, government service, or any other field that qualifies for federal Public Service Loan Forgiveness. Explore federal loan repayment and loan forgiveness programs and the <a href="http://www.utexas.edu/law/centers/publicinterest/lrap/">UT Law Loan Repayment Assistance Program (LRAP)</a> in greater depth in a small group setting. Bring your laptops and your questions.  Nicole Simmons, Director of Public Service Programs in the <a href="http://www.utexas.edu/law/career">CSO</a>, and Mary Crouter, Assistant Director of the <a href="http://www.utexas.edu/law/centers/publicinterest/">William Wayne Justice Center for Public Interest Law</a>, will facilitate the session. Students attending should be familiar with the material presented by Heather Jarvis from her presentation, “Public Service Loan Forgiveness in Five Easy Steps.” Lunch will be served afterwards. RSVP by Tuesday, April 2, on <a title="UT Law Symplicity" href="https://law-utexas-csm.symplicity.com/students/">UT Law Symplicity</a> by selecting the "Events" tab.
  </p>\n\nIf you need an accommodation to participate in this event, please contact the event sponsor or the Texas Law Special Events Office at specialevents@law.utexas.edu no later than seven business days prior to the event.
X-ALT-DESC;FMTTYPE=text/html:<p>This workshop is designed for 3Ls entering public interest law, government service, or any other field that qualifies for federal Public Service Loan Forgiveness. Explore federal loan repayment and loan forgiveness programs and the <a href="http://www.utexas.edu/law/centers/publicinterest/lrap/">UT Law Loan Repayment Assistance Program (LRAP)</a> in greater depth in a small group setting. Bring your laptops and your questions.  Nicole Simmons, Director of Public Service Programs in the <a href="http://www.utexas.edu/law/career">CSO</a>, and Mary Crouter, Assistant Director of the <a href="http://www.utexas.edu/law/centers/publicinterest/">William Wayne Justice Center for Public Interest Law</a>, will facilitate the session. Students attending should be familiar with the material presented by Heather Jarvis from her presentation, “Public Service Loan Forgiveness in Five Easy Steps.” Lunch will be served afterwards. RSVP by Tuesday, April 2, on <a title="UT Law Symplicity" href="https://law-utexas-csm.symplicity.com/students/">UT Law Symplicity</a> by selecting the "Events" tab.
  </p><p>If you need an accommodation to participate in this event, please contact the event
                                          event sponsor or the Texas Law Special Events Office at <a href="mailto:specialevents@law.utexas.edu">specialevents@law.utexas.edu</a> no later than seven business days prior to the event.</p>
CATEGORIES:Workshop / Training Program
LOCATION:
URL:http://law.utexas.edu/calendar/2013/04/03/15914/
CLASS:PUBLIC
STATUS:CANCELLED
COMMENT:Please contact Nicole Simmons, Director of Public Service Programs, at 512-232-1160 or <a href="mailto:nsimmons@law.utexas.edu">nsimmons@law.utexas.edu</a>.
END:VEVENT
END:VCALENDAR