BEGIN:VCALENDAR
VERSION:2.0
PRODID:-//UNIVERSITY OF TEXAS SCHOOL OF LAW//NONSGML Events Calendar v1.0//EN
X-WR-TIMEZONE:America/Chicago
BEGIN:VTIMEZONE
TZID:US/Central
X-LIC-LOCATION:America/Chicago
BEGIN:DAYLIGHT
TZOFFSETFROM:-0600
TZOFFSETTO:-0500
TZNAME:CDT
DTSTART:19700308T020000
RRULE:FREQ=YEARLY;BYMONTH=3;BYDAY=2SU
END:DAYLIGHT
BEGIN:STANDARD
TZOFFSETFROM:-0500
TZOFFSETTO:-0600
TZNAME:CST
DTSTART:19701101T020000
RRULE:FREQ=YEARLY;BYMONTH=11;BYDAY=1SU
END:STANDARD
END:VTIMEZONE
BEGIN:VEVENT
DTSTART;TZID=US/Central:20130403T190000
DTEND;VALUE=DATE-TIME;TZID=US/Central:20130403T211500

DTSTAMP:20260422T165600Z
CREATED:20130222T221100Z
LAST-MODIFIED:20130222T221100Z
UID:20130403T190000-16237@law.utexas.edu
SUMMARY:25TH ANNUAL HEALTH LAW CONFERENCE
DESCRIPTION:<p>Now in its 25th year, UT Law’s Health Law Conference brings together government officials, leading in-house attorneys from major hospitals and medical institutions, as well as legal and financial advisors representing hospitals, healthcare providers and physicians.</p>
  <p>Held at the Four Seasons Hotel in Houston, the 2013 conference provides practical and detailed coverage of the updates, key issues, strategies and opportunities facing members of the healthcare community, including:</p>
  <p>- Wednesday evening Concurrent Sessions: Fundamentals and a special In-House Counsel only
  - Focused series of sessions on Transactions including physician-hospital contractual arrangements, network alignment models and M&amp;A
  - Healthcare Year-in-Review—including regulatory changes and policy initiatives
  - An extensive analysis of the HHSC transformations being made to the Medicaid Managed Care program by HHSC leaders
  - The Prosecution of an In-House Corporate Counsel—A Cautionary Tale and Lessons Learned presented by former GlaxoSmithKline in-house attorney Lauren Stevens and former FDA Associate Chief Counsel Mark Brown
  - A comprehensive review of recent decisions affecting the liabilities and duties of healthcare providers
  - 4.00 hours of ethics credit including a panel of experts discussing ethical issues faced by health law practitioners
  - Multiple networking opportunities including Thursday’s Luncheon Table Topics</p>
  <p>Register at www.utcle.org/conferences/HL13</p>\n\nIf you need an accommodation to participate in this event, please contact the event sponsor or the Texas Law Special Events Office at specialevents@law.utexas.edu no later than seven business days prior to the event.
X-ALT-DESC;FMTTYPE=text/html:<p>Now in its 25th year, UT Law’s Health Law Conference brings together government officials, leading in-house attorneys from major hospitals and medical institutions, as well as legal and financial advisors representing hospitals, healthcare providers and physicians.</p>
  <p>Held at the Four Seasons Hotel in Houston, the 2013 conference provides practical and detailed coverage of the updates, key issues, strategies and opportunities facing members of the healthcare community, including:</p>
  <p>- Wednesday evening Concurrent Sessions: Fundamentals and a special In-House Counsel only
  - Focused series of sessions on Transactions including physician-hospital contractual arrangements, network alignment models and M&amp;A
  - Healthcare Year-in-Review—including regulatory changes and policy initiatives
  - An extensive analysis of the HHSC transformations being made to the Medicaid Managed Care program by HHSC leaders
  - The Prosecution of an In-House Corporate Counsel—A Cautionary Tale and Lessons Learned presented by former GlaxoSmithKline in-house attorney Lauren Stevens and former FDA Associate Chief Counsel Mark Brown
  - A comprehensive review of recent decisions affecting the liabilities and duties of healthcare providers
  - 4.00 hours of ethics credit including a panel of experts discussing ethical issues faced by health law practitioners
  - Multiple networking opportunities including Thursday’s Luncheon Table Topics</p>
  <p>Register at www.utcle.org/conferences/HL13</p><p>If you need an accommodation to participate in this event, please contact the event
                                          event sponsor or the Texas Law Special Events Office at <a href="mailto:specialevents@law.utexas.edu">specialevents@law.utexas.edu</a> no later than seven business days prior to the event.</p>
CATEGORIES:Other
LOCATION:Houston, Texas
URL:http://law.utexas.edu/calendar/2013/04/03/16237/
CLASS:PUBLIC
STATUS:CONFIRMED
COMMENT:http://www.utcle.org/conferences/HL13
END:VEVENT
END:VCALENDAR