BEGIN:VCALENDAR
VERSION:2.0
PRODID:-//UNIVERSITY OF TEXAS SCHOOL OF LAW//NONSGML Events Calendar v1.0//EN
X-WR-TIMEZONE:America/Chicago
BEGIN:VTIMEZONE
TZID:US/Central
X-LIC-LOCATION:America/Chicago
BEGIN:DAYLIGHT
TZOFFSETFROM:-0600
TZOFFSETTO:-0500
TZNAME:CDT
DTSTART:19700308T020000
RRULE:FREQ=YEARLY;BYMONTH=3;BYDAY=2SU
END:DAYLIGHT
BEGIN:STANDARD
TZOFFSETFROM:-0500
TZOFFSETTO:-0600
TZNAME:CST
DTSTART:19701101T020000
RRULE:FREQ=YEARLY;BYMONTH=11;BYDAY=1SU
END:STANDARD
END:VTIMEZONE
BEGIN:VEVENT
DTSTART;TZID=US/Central:20130405T081500
DTEND;VALUE=DATE-TIME;TZID=US/Central:20130405T160000

DTSTAMP:20260422T194800Z
CREATED:20130118T204100Z
LAST-MODIFIED:20130118T211400Z
UID:20130405T081500-15921@law.utexas.edu
SUMMARY:Closing the Educational Achievement Gap
DESCRIPTION:<p>Building on the Justice Center’s education-directed pro bono initiatives and law students’ interest in education reform, the conference will focus on the law as a tool to close the educational achievement gap, with a special focus on Texas.  Closing the achievement gap requires a multi-faceted approach that addresses issues at the community, school, and policy levels.  This conference, aimed at education reformers, lawyers, educators, policy makers, scholars, and students, will explore ongoing efforts to close the achievement gap as well as possible future initiatives.  Morning panels will address education reform efforts through government and legislative action and litigation.  The lunchtime keynote will be followed by an afternoon panel for students and young lawyers on building a legal career focused on addressing the achievement gap.   The conference will conclude with an informal reception.</p>\n\nIf you need an accommodation to participate in this event, please contact the event sponsor or the Texas Law Special Events Office at specialevents@law.utexas.edu no later than seven business days prior to the event.
X-ALT-DESC;FMTTYPE=text/html:<p>Building on the Justice Center’s education-directed pro bono initiatives and law students’ interest in education reform, the conference will focus on the law as a tool to close the educational achievement gap, with a special focus on Texas.  Closing the achievement gap requires a multi-faceted approach that addresses issues at the community, school, and policy levels.  This conference, aimed at education reformers, lawyers, educators, policy makers, scholars, and students, will explore ongoing efforts to close the achievement gap as well as possible future initiatives.  Morning panels will address education reform efforts through government and legislative action and litigation.  The lunchtime keynote will be followed by an afternoon panel for students and young lawyers on building a legal career focused on addressing the achievement gap.   The conference will conclude with an informal reception.</p><p>If you need an accommodation to participate in this event, please contact the event
                                          event sponsor or the Texas Law Special Events Office at <a href="mailto:specialevents@law.utexas.edu">specialevents@law.utexas.edu</a> no later than seven business days prior to the event.</p>
CATEGORIES:Other
LOCATION:TNH 2.100 - Susman Godfrey Atrium
URL:http://law.utexas.edu/calendar/2013/04/05/15921/
CLASS:PUBLIC
STATUS:CONFIRMED

END:VEVENT
END:VCALENDAR