BEGIN:VCALENDAR
VERSION:2.0
PRODID:-//UNIVERSITY OF TEXAS SCHOOL OF LAW//NONSGML Events Calendar v1.0//EN
X-WR-TIMEZONE:America/Chicago
BEGIN:VTIMEZONE
TZID:US/Central
X-LIC-LOCATION:America/Chicago
BEGIN:DAYLIGHT
TZOFFSETFROM:-0600
TZOFFSETTO:-0500
TZNAME:CDT
DTSTART:19700308T020000
RRULE:FREQ=YEARLY;BYMONTH=3;BYDAY=2SU
END:DAYLIGHT
BEGIN:STANDARD
TZOFFSETFROM:-0500
TZOFFSETTO:-0600
TZNAME:CST
DTSTART:19701101T020000
RRULE:FREQ=YEARLY;BYMONTH=11;BYDAY=1SU
END:STANDARD
END:VTIMEZONE
BEGIN:VEVENT
DTSTART;TZID=US/Central:20130408T170000
DTEND;VALUE=DATE-TIME;TZID=US/Central:20130408T183000

DTSTAMP:20260422T164000Z
CREATED:20130220T181800Z
LAST-MODIFIED:20130402T164200Z
UID:20130408T170000-16214@law.utexas.edu
SUMMARY:The Inter-American Human Rights System
DESCRIPTION:<p>Please join us for a special event featuring Charles Moyer from the Inter-American Institute of Human Rights, who will present a talk entitled “The Inter-American System of Human Rights: From an auspicious beginning to an uncertain future.”  Professor Ariel Dulitzky will serve as respondent.  Light refreshments will be served.</p>
  <p>The Inter-American Commission on Human Rights, the keystone of the Inter-American System, has gone from being a staunch defender of human rights, especially during the darkest periods in the hemisphere, to having to defend itself from attacks by the governments that created it and established its norms.  In addition, the more recently established Inter-American Court of Human Rights has been a spill-over victim of these attacks.  The Organization of American States, which exists to promote and protect human rights, is now the battleground where the war on the system is being played out.</p>
  <p>Charles Moyer has devoted his professional career to the international protection of human rights.  He was a Specialist of the Inter-American Commission on Human Rights from 1970-79 and was elected to be the first Secretary of the Inter-American Court of Human Rights, where he served during the 1980s.  Prior to joining the Inter-American Commission, Moyer served as an Army Artillery officer and was a Peace Corps volunteer in Venezuela.  After his retirement from the Organization of American States in 1989, Moyer served as an adjunct professor at American University’s Washington School of Law.  He currently works with the Inter-American Institute of Human Rights in San José, Costa Rica.  Moyer received a B.A. from Gettysburg College and a J.D. from the University of Michigan.
  </p>\n\nIf you need an accommodation to participate in this event, please contact the event sponsor or the Texas Law Special Events Office at specialevents@law.utexas.edu no later than seven business days prior to the event.
X-ALT-DESC;FMTTYPE=text/html:<p>Please join us for a special event featuring Charles Moyer from the Inter-American Institute of Human Rights, who will present a talk entitled “The Inter-American System of Human Rights: From an auspicious beginning to an uncertain future.”  Professor Ariel Dulitzky will serve as respondent.  Light refreshments will be served.</p>
  <p>The Inter-American Commission on Human Rights, the keystone of the Inter-American System, has gone from being a staunch defender of human rights, especially during the darkest periods in the hemisphere, to having to defend itself from attacks by the governments that created it and established its norms.  In addition, the more recently established Inter-American Court of Human Rights has been a spill-over victim of these attacks.  The Organization of American States, which exists to promote and protect human rights, is now the battleground where the war on the system is being played out.</p>
  <p>Charles Moyer has devoted his professional career to the international protection of human rights.  He was a Specialist of the Inter-American Commission on Human Rights from 1970-79 and was elected to be the first Secretary of the Inter-American Court of Human Rights, where he served during the 1980s.  Prior to joining the Inter-American Commission, Moyer served as an Army Artillery officer and was a Peace Corps volunteer in Venezuela.  After his retirement from the Organization of American States in 1989, Moyer served as an adjunct professor at American University’s Washington School of Law.  He currently works with the Inter-American Institute of Human Rights in San José, Costa Rica.  Moyer received a B.A. from Gettysburg College and a J.D. from the University of Michigan.
  </p><p>If you need an accommodation to participate in this event, please contact the event
                                          event sponsor or the Texas Law Special Events Office at <a href="mailto:specialevents@law.utexas.edu">specialevents@law.utexas.edu</a> no later than seven business days prior to the event.</p>
CATEGORIES:Panel Discussion / Speaker Series
LOCATION:TNH 2.111 - Sheffield-Massey Room
URL:http://law.utexas.edu/calendar/2013/04/08/16214/
CLASS:PUBLIC
STATUS:CONFIRMED

END:VEVENT
END:VCALENDAR