BEGIN:VCALENDAR
VERSION:2.0
PRODID:-//UNIVERSITY OF TEXAS SCHOOL OF LAW//NONSGML Events Calendar v1.0//EN
X-WR-TIMEZONE:America/Chicago
BEGIN:VTIMEZONE
TZID:US/Central
X-LIC-LOCATION:America/Chicago
BEGIN:DAYLIGHT
TZOFFSETFROM:-0600
TZOFFSETTO:-0500
TZNAME:CDT
DTSTART:19700308T020000
RRULE:FREQ=YEARLY;BYMONTH=3;BYDAY=2SU
END:DAYLIGHT
BEGIN:STANDARD
TZOFFSETFROM:-0500
TZOFFSETTO:-0600
TZNAME:CST
DTSTART:19701101T020000
RRULE:FREQ=YEARLY;BYMONTH=11;BYDAY=1SU
END:STANDARD
END:VTIMEZONE
BEGIN:VEVENT
DTSTART;TZID=US/Central:20130408T170000
DTEND;TZID=US/Central:20130408T170000

DTSTAMP:20260422T191500Z
CREATED:20130327T155600Z
LAST-MODIFIED:20130328T030600Z
UID:20130408T000000-16446@law.utexas.edu
SUMMARY:TLF 2013-2014 Board Member App. Due
DESCRIPTION:<p>Apply for a position on Texas Law Fellowships (TLF's) Board for 2013-2014!  Applications due on Monday, April 8th by 5:00pm.  Texaslawfellowships.org for more information and the application. </p>\n\nIf you need an accommodation to participate in this event, please contact the event sponsor or the Texas Law Special Events Office at specialevents@law.utexas.edu no later than seven business days prior to the event.
X-ALT-DESC;FMTTYPE=text/html:<p>Apply for a position on Texas Law Fellowships (TLF's) Board for 2013-2014!  Applications due on Monday, April 8th by 5:00pm.  Texaslawfellowships.org for more information and the application. </p><p>If you need an accommodation to participate in this event, please contact the event
                                          event sponsor or the Texas Law Special Events Office at <a href="mailto:specialevents@law.utexas.edu">specialevents@law.utexas.edu</a> no later than seven business days prior to the event.</p>
CATEGORIES:Other

URL:http://law.utexas.edu/calendar/2013/04/08/16446/
CLASS:PUBLIC
STATUS:CONFIRMED

END:VEVENT
END:VCALENDAR