BEGIN:VCALENDAR
VERSION:2.0
PRODID:-//UNIVERSITY OF TEXAS SCHOOL OF LAW//NONSGML Events Calendar v1.0//EN
X-WR-TIMEZONE:America/Chicago
BEGIN:VTIMEZONE
TZID:US/Central
X-LIC-LOCATION:America/Chicago
BEGIN:DAYLIGHT
TZOFFSETFROM:-0600
TZOFFSETTO:-0500
TZNAME:CDT
DTSTART:19700308T020000
RRULE:FREQ=YEARLY;BYMONTH=3;BYDAY=2SU
END:DAYLIGHT
BEGIN:STANDARD
TZOFFSETFROM:-0500
TZOFFSETTO:-0600
TZNAME:CST
DTSTART:19701101T020000
RRULE:FREQ=YEARLY;BYMONTH=11;BYDAY=1SU
END:STANDARD
END:VTIMEZONE
BEGIN:VEVENT
DTSTART;TZID=US/Central:20130409T120000
DTEND;VALUE=DATE-TIME;TZID=US/Central:20130409T133000

DTSTAMP:20260422T153100Z
CREATED:20130118T175000Z
LAST-MODIFIED:20130409T142200Z
UID:20130409T120000-15916@law.utexas.edu
SUMMARY:Succeeding in Your Summer Clerkship
DESCRIPTION:<p>In the first hour, learn the tips and tools you’ll need to succeed as a summer associate at a small or large firm. Panelists include <a href="http://www.velaw.com/lawyers/SandraRodriguez.aspx">Sandra Rodriguez, ‘94,</a> Partner at Vinson &amp; Elkins (Austin); Gretchen Rollins, Director of Entry-Level Hiring, at Vinson &amp; Elkins (Dallas); and <a href="http://www.bakerbotts.com/amber-maciver/">Amber MacIver, '06,</a> Senior Associate at Baker Botts L.L.P. (Austin). Moderated by <a href="http://www.utexas.edu/law/faculty/twm429/">Tracy McCormack, Director of Advocacy Programs at UT Law</a>.</p>
  <p>At 1:00 p.m., <a href="http://www.utexas.edu/law/faculty/jn22758/">Joe Noel, Reference Librarian and Lecturer with the Tarlton Law Library</a> will talk about legal research strategies for summer clerkship assignments. He’ll discuss how to familiarize yourself with your firm's research environment, what questions to ask when you receive an assignment, and best practices for deciding where to start your research. Examples of actual summer assignments from law firms will be presented.</p>
  <p>Lunch will be served. Sponsored by <a href="http://www.velaw.com/">Vinson &amp; Elkins</a>. RSVP by Monday, April 8, on <a title="UT Law Symplicity" href="https://law-utexas-csm.symplicity.com/students/">UT Law Symplicity</a> by selecting the "Events" tab.</p>\n\nIf you need an accommodation to participate in this event, please contact the event sponsor or the Texas Law Special Events Office at specialevents@law.utexas.edu no later than seven business days prior to the event.
X-ALT-DESC;FMTTYPE=text/html:<p>In the first hour, learn the tips and tools you’ll need to succeed as a summer associate at a small or large firm. Panelists include <a href="http://www.velaw.com/lawyers/SandraRodriguez.aspx">Sandra Rodriguez, ‘94,</a> Partner at Vinson &amp; Elkins (Austin); Gretchen Rollins, Director of Entry-Level Hiring, at Vinson &amp; Elkins (Dallas); and <a href="http://www.bakerbotts.com/amber-maciver/">Amber MacIver, '06,</a> Senior Associate at Baker Botts L.L.P. (Austin). Moderated by <a href="http://www.utexas.edu/law/faculty/twm429/">Tracy McCormack, Director of Advocacy Programs at UT Law</a>.</p>
  <p>At 1:00 p.m., <a href="http://www.utexas.edu/law/faculty/jn22758/">Joe Noel, Reference Librarian and Lecturer with the Tarlton Law Library</a> will talk about legal research strategies for summer clerkship assignments. He’ll discuss how to familiarize yourself with your firm's research environment, what questions to ask when you receive an assignment, and best practices for deciding where to start your research. Examples of actual summer assignments from law firms will be presented.</p>
  <p>Lunch will be served. Sponsored by <a href="http://www.velaw.com/">Vinson &amp; Elkins</a>. RSVP by Monday, April 8, on <a title="UT Law Symplicity" href="https://law-utexas-csm.symplicity.com/students/">UT Law Symplicity</a> by selecting the "Events" tab.</p><p>If you need an accommodation to participate in this event, please contact the event
                                          event sponsor or the Texas Law Special Events Office at <a href="mailto:specialevents@law.utexas.edu">specialevents@law.utexas.edu</a> no later than seven business days prior to the event.</p>
CATEGORIES:Workshop / Training Program
LOCATION:TNH 2.140 - Wright Classroom
URL:http://law.utexas.edu/calendar/2013/04/09/15916/
CLASS:PUBLIC
STATUS:CONFIRMED
COMMENT:Please contact Simone Leavenworth, Career Counselor, at <a href="mailto:sleavenworth@law.utexas.edu">sleavenworth@law.utexas.edu</a> or 512-232-1157 in the CSO.
END:VEVENT
END:VCALENDAR