BEGIN:VCALENDAR
VERSION:2.0
PRODID:-//UNIVERSITY OF TEXAS SCHOOL OF LAW//NONSGML Events Calendar v1.0//EN
X-WR-TIMEZONE:America/Chicago
BEGIN:VTIMEZONE
TZID:US/Central
X-LIC-LOCATION:America/Chicago
BEGIN:DAYLIGHT
TZOFFSETFROM:-0600
TZOFFSETTO:-0500
TZNAME:CDT
DTSTART:19700308T020000
RRULE:FREQ=YEARLY;BYMONTH=3;BYDAY=2SU
END:DAYLIGHT
BEGIN:STANDARD
TZOFFSETFROM:-0500
TZOFFSETTO:-0600
TZNAME:CST
DTSTART:19701101T020000
RRULE:FREQ=YEARLY;BYMONTH=11;BYDAY=1SU
END:STANDARD
END:VTIMEZONE
BEGIN:VEVENT
DTSTART;TZID=US/Central:20130409T153000
DTEND;VALUE=DATE-TIME;TZID=US/Central:20130409T163000

DTSTAMP:20260422T180900Z
CREATED:20130308T193500Z
LAST-MODIFIED:20130326T185300Z
UID:20130409T153000-16311@law.utexas.edu
SUMMARY:Legal Research in the Real World
DESCRIPTION:<p>What is there beyond Bloomberg, Lexis, and Westlaw? How will you do great legal research with limited resources? This program led by Tarlton law librarians will highlight free and low-cost legal research resources and offer practical tips about how to tackle real world legal research problems. This session will be helpful for students doing public interest or government work this summer, but any student interested in free and low cost resources will find the session valuable.      </p>\n\nIf you need an accommodation to participate in this event, please contact the event sponsor or the Texas Law Special Events Office at specialevents@law.utexas.edu no later than seven business days prior to the event.
X-ALT-DESC;FMTTYPE=text/html:<p>What is there beyond Bloomberg, Lexis, and Westlaw? How will you do great legal research with limited resources? This program led by Tarlton law librarians will highlight free and low-cost legal research resources and offer practical tips about how to tackle real world legal research problems. This session will be helpful for students doing public interest or government work this summer, but any student interested in free and low cost resources will find the session valuable.      </p><p>If you need an accommodation to participate in this event, please contact the event
                                          event sponsor or the Texas Law Special Events Office at <a href="mailto:specialevents@law.utexas.edu">specialevents@law.utexas.edu</a> no later than seven business days prior to the event.</p>
CATEGORIES:Workshop / Training Program
LOCATION:Tarlton's Computer Classroom (JON 3.222/3.223)
URL:http://law.utexas.edu/calendar/2013/04/09/16311/
CLASS:PUBLIC
STATUS:CONFIRMED

END:VEVENT
END:VCALENDAR