BEGIN:VCALENDAR
VERSION:2.0
PRODID:-//UNIVERSITY OF TEXAS SCHOOL OF LAW//NONSGML Events Calendar v1.0//EN
X-WR-TIMEZONE:America/Chicago
BEGIN:VTIMEZONE
TZID:US/Central
X-LIC-LOCATION:America/Chicago
BEGIN:DAYLIGHT
TZOFFSETFROM:-0600
TZOFFSETTO:-0500
TZNAME:CDT
DTSTART:19700308T020000
RRULE:FREQ=YEARLY;BYMONTH=3;BYDAY=2SU
END:DAYLIGHT
BEGIN:STANDARD
TZOFFSETFROM:-0500
TZOFFSETTO:-0600
TZNAME:CST
DTSTART:19701101T020000
RRULE:FREQ=YEARLY;BYMONTH=11;BYDAY=1SU
END:STANDARD
END:VTIMEZONE
BEGIN:VEVENT
DTSTART;TZID=US/Central:20130409T114500
DTEND;VALUE=DATE-TIME;TZID=US/Central:20130409T131500

DTSTAMP:20260422T164000Z
CREATED:20130402T190800Z
LAST-MODIFIED:20130403T171900Z
UID:20130409T114500-16524@law.utexas.edu
SUMMARY:Ins and Outs of Student Loan Repayment
DESCRIPTION:<p>Ms. Cindy Marrs and Ms. Michelle Anderson from TG (Texas Guaranteed Student Loan Corporation) will present information concerning Student Loan Repayment Options and Strategies. They will be available after the session for individual Q&amp;A. </p>
  <p>Pizza will be provided. Please RSVP by noon on Friday, April 5, 2013 to scannon@law.utexas.edu.</p>\n\nIf you need an accommodation to participate in this event, please contact the event sponsor or the Texas Law Special Events Office at specialevents@law.utexas.edu no later than seven business days prior to the event.
X-ALT-DESC;FMTTYPE=text/html:<p>Ms. Cindy Marrs and Ms. Michelle Anderson from TG (Texas Guaranteed Student Loan Corporation) will present information concerning Student Loan Repayment Options and Strategies. They will be available after the session for individual Q&amp;A. </p>
  <p>Pizza will be provided. Please RSVP by noon on Friday, April 5, 2013 to scannon@law.utexas.edu.</p><p>If you need an accommodation to participate in this event, please contact the event
                                          event sponsor or the Texas Law Special Events Office at <a href="mailto:specialevents@law.utexas.edu">specialevents@law.utexas.edu</a> no later than seven business days prior to the event.</p>

LOCATION:TNH 2.138 - Blanton Classroom
URL:http://law.utexas.edu/calendar/2013/04/09/16524/
CLASS:PUBLIC
STATUS:CONFIRMED

END:VEVENT
END:VCALENDAR