BEGIN:VCALENDAR
VERSION:2.0
PRODID:-//UNIVERSITY OF TEXAS SCHOOL OF LAW//NONSGML Events Calendar v1.0//EN
X-WR-TIMEZONE:America/Chicago
BEGIN:VTIMEZONE
TZID:US/Central
X-LIC-LOCATION:America/Chicago
BEGIN:DAYLIGHT
TZOFFSETFROM:-0600
TZOFFSETTO:-0500
TZNAME:CDT
DTSTART:19700308T020000
RRULE:FREQ=YEARLY;BYMONTH=3;BYDAY=2SU
END:DAYLIGHT
BEGIN:STANDARD
TZOFFSETFROM:-0500
TZOFFSETTO:-0600
TZNAME:CST
DTSTART:19701101T020000
RRULE:FREQ=YEARLY;BYMONTH=11;BYDAY=1SU
END:STANDARD
END:VTIMEZONE
BEGIN:VEVENT
DTSTART;TZID=US/Central:20130409T170000
DTEND;VALUE=DATE-TIME;TZID=US/Central:20130409T190000

DTSTAMP:20260422T165700Z
CREATED:20130405T155500Z
LAST-MODIFIED:20130405T155500Z
UID:20130409T170000-16553@law.utexas.edu
SUMMARY:Progressive Lawyering Happy Hour
DESCRIPTION:<p>Celebrate the end of the year with free drinks among progressive law students and practitioners!</p>
  <p>Co-hosted by: American Constitution Society -- UT Law Chapter, American Constitution Society -- Austin Lawyer's Chapter, Chicano/Hispanic Law Students Association (CHLSA), Human Rights Law Society, Public Interest Law Association (PILA), and Thurgood Marshall Law Society (TMLS)</p>
  <p>WHEN: Tuesday, April 9 @ 5:00p - 7:00p 
  WHERE: Dog &amp; Duck Pub (406 W. 17th Street) 
  Drinks sponsored by ACS -- UT Law Chapter</p>\n\nIf you need an accommodation to participate in this event, please contact the event sponsor or the Texas Law Special Events Office at specialevents@law.utexas.edu no later than seven business days prior to the event.
X-ALT-DESC;FMTTYPE=text/html:<p>Celebrate the end of the year with free drinks among progressive law students and practitioners!</p>
  <p>Co-hosted by: American Constitution Society -- UT Law Chapter, American Constitution Society -- Austin Lawyer's Chapter, Chicano/Hispanic Law Students Association (CHLSA), Human Rights Law Society, Public Interest Law Association (PILA), and Thurgood Marshall Law Society (TMLS)</p>
  <p>WHEN: Tuesday, April 9 @ 5:00p - 7:00p 
  WHERE: Dog &amp; Duck Pub (406 W. 17th Street) 
  Drinks sponsored by ACS -- UT Law Chapter</p><p>If you need an accommodation to participate in this event, please contact the event
                                          event sponsor or the Texas Law Special Events Office at <a href="mailto:specialevents@law.utexas.edu">specialevents@law.utexas.edu</a> no later than seven business days prior to the event.</p>


URL:http://law.utexas.edu/calendar/2013/04/09/16553/
CLASS:PUBLIC
STATUS:CONFIRMED

END:VEVENT
END:VCALENDAR