BEGIN:VCALENDAR
VERSION:2.0
PRODID:-//UNIVERSITY OF TEXAS SCHOOL OF LAW//NONSGML Events Calendar v1.0//EN
X-WR-TIMEZONE:America/Chicago
BEGIN:VTIMEZONE
TZID:US/Central
X-LIC-LOCATION:America/Chicago
BEGIN:DAYLIGHT
TZOFFSETFROM:-0600
TZOFFSETTO:-0500
TZNAME:CDT
DTSTART:19700308T020000
RRULE:FREQ=YEARLY;BYMONTH=3;BYDAY=2SU
END:DAYLIGHT
BEGIN:STANDARD
TZOFFSETFROM:-0500
TZOFFSETTO:-0600
TZNAME:CST
DTSTART:19701101T020000
RRULE:FREQ=YEARLY;BYMONTH=11;BYDAY=1SU
END:STANDARD
END:VTIMEZONE
BEGIN:VEVENT
DTSTART;TZID=US/Central:20130410T124500
DTEND;VALUE=DATE-TIME;TZID=US/Central:20130410T140000

DTSTAMP:20260422T180900Z
CREATED:20130216T200500Z
LAST-MODIFIED:20130326T185200Z
UID:20130410T124500-16126@law.utexas.edu
SUMMARY:Latina Leaders in Law
DESCRIPTION:<p>Please join CHLSA's Latina Law Caucus and the Center for Women in Law for a special event featuring preeminent Latinas in the law:</p>
  <p>Jenny Rivera - Professor of Law, City University of New York School of Law and Founder and Director, Center on Latino and Latina Rights and Equality, as well as recent nominee to the New York Court of Appeals</p>
  <p>Arcelia Hurtado - Executive Director of Equal Rights Advocates in California, and founder of the Women Defenders Fellowship</p>
  <p>Hilda C. Galvan - Partner at Jones Day, with focus on intellectual property litigation, and UT School of Law alumna</p>
  <p>All students are welcome to attend this unique opportunity to meet these exceptional women, and be inspired as they share their experiences. Lunch will be provided. </p>
  <p>Please RSVP to marshaperez@utexas.edu by April 3, 2013. </p>\n\nIf you need an accommodation to participate in this event, please contact the event sponsor or the Texas Law Special Events Office at specialevents@law.utexas.edu no later than seven business days prior to the event.
X-ALT-DESC;FMTTYPE=text/html:<p>Please join CHLSA's Latina Law Caucus and the Center for Women in Law for a special event featuring preeminent Latinas in the law:</p>
  <p>Jenny Rivera - Professor of Law, City University of New York School of Law and Founder and Director, Center on Latino and Latina Rights and Equality, as well as recent nominee to the New York Court of Appeals</p>
  <p>Arcelia Hurtado - Executive Director of Equal Rights Advocates in California, and founder of the Women Defenders Fellowship</p>
  <p>Hilda C. Galvan - Partner at Jones Day, with focus on intellectual property litigation, and UT School of Law alumna</p>
  <p>All students are welcome to attend this unique opportunity to meet these exceptional women, and be inspired as they share their experiences. Lunch will be provided. </p>
  <p>Please RSVP to marshaperez@utexas.edu by April 3, 2013. </p><p>If you need an accommodation to participate in this event, please contact the event
                                          event sponsor or the Texas Law Special Events Office at <a href="mailto:specialevents@law.utexas.edu">specialevents@law.utexas.edu</a> no later than seven business days prior to the event.</p>
CATEGORIES:Lunch
LOCATION:CCJ 2.310 - Jury Room
URL:http://law.utexas.edu/calendar/2013/04/10/16126/
CLASS:PUBLIC
STATUS:CONFIRMED
COMMENT:marshaperez@utexas.edu
END:VEVENT
END:VCALENDAR