BEGIN:VCALENDAR
VERSION:2.0
PRODID:-//UNIVERSITY OF TEXAS SCHOOL OF LAW//NONSGML Events Calendar v1.0//EN
X-WR-TIMEZONE:America/Chicago
BEGIN:VTIMEZONE
TZID:US/Central
X-LIC-LOCATION:America/Chicago
BEGIN:DAYLIGHT
TZOFFSETFROM:-0600
TZOFFSETTO:-0500
TZNAME:CDT
DTSTART:19700308T020000
RRULE:FREQ=YEARLY;BYMONTH=3;BYDAY=2SU
END:DAYLIGHT
BEGIN:STANDARD
TZOFFSETFROM:-0500
TZOFFSETTO:-0600
TZNAME:CST
DTSTART:19701101T020000
RRULE:FREQ=YEARLY;BYMONTH=11;BYDAY=1SU
END:STANDARD
END:VTIMEZONE
BEGIN:VEVENT
DTSTART;TZID=US/Central:20130410T080000
DTEND;VALUE=DATE-TIME;TZID=US/Central:20130410T093000

DTSTAMP:20260422T153000Z
CREATED:20130328T163900Z
LAST-MODIFIED:20130328T163900Z
UID:20130410T080000-16464@law.utexas.edu
SUMMARY:Breakfast Tacos with Locke Lord LLP
DESCRIPTION:<p>All 1Ls are invited to join <a title="Locke Lord LLP" href="http://www.lockelord.com/">Locke Lord LLP</a> for breakfast tacos from 8:00-9:30 a.m.  Look for the Peached Tortilla taco truck located on the south side of the law school on Trinity Street.</p>\n\nIf you need an accommodation to participate in this event, please contact the event sponsor or the Texas Law Special Events Office at specialevents@law.utexas.edu no later than seven business days prior to the event.
X-ALT-DESC;FMTTYPE=text/html:<p>All 1Ls are invited to join <a title="Locke Lord LLP" href="http://www.lockelord.com/">Locke Lord LLP</a> for breakfast tacos from 8:00-9:30 a.m.  Look for the Peached Tortilla taco truck located on the south side of the law school on Trinity Street.</p><p>If you need an accommodation to participate in this event, please contact the event
                                          event sponsor or the Texas Law Special Events Office at <a href="mailto:specialevents@law.utexas.edu">specialevents@law.utexas.edu</a> no later than seven business days prior to the event.</p>
CATEGORIES:Breakfast
LOCATION:Outside on Trinity Street near CCJ
URL:http://law.utexas.edu/calendar/2013/04/10/16464/
CLASS:PUBLIC
STATUS:CONFIRMED

END:VEVENT
END:VCALENDAR