BEGIN:VCALENDAR
VERSION:2.0
PRODID:-//UNIVERSITY OF TEXAS SCHOOL OF LAW//NONSGML Events Calendar v1.0//EN
X-WR-TIMEZONE:America/Chicago
BEGIN:VTIMEZONE
TZID:US/Central
X-LIC-LOCATION:America/Chicago
BEGIN:DAYLIGHT
TZOFFSETFROM:-0600
TZOFFSETTO:-0500
TZNAME:CDT
DTSTART:19700308T020000
RRULE:FREQ=YEARLY;BYMONTH=3;BYDAY=2SU
END:DAYLIGHT
BEGIN:STANDARD
TZOFFSETFROM:-0500
TZOFFSETTO:-0600
TZNAME:CST
DTSTART:19701101T020000
RRULE:FREQ=YEARLY;BYMONTH=11;BYDAY=1SU
END:STANDARD
END:VTIMEZONE
BEGIN:VEVENT
DTSTART;TZID=US/Central:20130411T113000


DTSTAMP:20260422T191500Z
CREATED:20130118T175200Z
LAST-MODIFIED:20130411T142400Z
UID:20130411T113000-15917@law.utexas.edu
SUMMARY:Public Interest Postgraduate Fellowships
DESCRIPTION:<p><a href="http://www.utexas.edu/law/faculty/mc22656/">Mary Crouter</a>, Assistant Director of the William Wayne Justice Center for Public Interest Law, and <a href="http://www.utexas.edu/law/faculty/lw9727/">Lucy Wood</a>, Skadden Foundation Fellow and Lecturer with the William Wayne Justice Center, along with Meredith Shytles Parekh, ’11, <a href="http://www.skaddenfellowships.org/">Skadden Foundation Fellow</a> with Disability Rights Texas; Amelia Ruiz Fischer, ‘12, <a href="http://www.equaljusticeworks.org/post-grad/equal-justice-works-fellowships">Equal Justice Works Fellow</a> with the Texas Civil Rights Project; and Abby Anna Batko-Taylor,’13, UT Law-Funded Postgraduate Fellow, will discuss the fellowship application process and provide strategies for putting together a competitive fellowship application. RSVP by Wednesday, April 10, on <a title="UT Law Symplicity" href="https://law-utexas-csm.symplicity.com/students/">UT Law Symplicity</a> by selecting the "Events" tab.</p>\n\nIf you need an accommodation to participate in this event, please contact the event sponsor or the Texas Law Special Events Office at specialevents@law.utexas.edu no later than seven business days prior to the event.
X-ALT-DESC;FMTTYPE=text/html:<p><a href="http://www.utexas.edu/law/faculty/mc22656/">Mary Crouter</a>, Assistant Director of the William Wayne Justice Center for Public Interest Law, and <a href="http://www.utexas.edu/law/faculty/lw9727/">Lucy Wood</a>, Skadden Foundation Fellow and Lecturer with the William Wayne Justice Center, along with Meredith Shytles Parekh, ’11, <a href="http://www.skaddenfellowships.org/">Skadden Foundation Fellow</a> with Disability Rights Texas; Amelia Ruiz Fischer, ‘12, <a href="http://www.equaljusticeworks.org/post-grad/equal-justice-works-fellowships">Equal Justice Works Fellow</a> with the Texas Civil Rights Project; and Abby Anna Batko-Taylor,’13, UT Law-Funded Postgraduate Fellow, will discuss the fellowship application process and provide strategies for putting together a competitive fellowship application. RSVP by Wednesday, April 10, on <a title="UT Law Symplicity" href="https://law-utexas-csm.symplicity.com/students/">UT Law Symplicity</a> by selecting the "Events" tab.</p><p>If you need an accommodation to participate in this event, please contact the event
                                          event sponsor or the Texas Law Special Events Office at <a href="mailto:specialevents@law.utexas.edu">specialevents@law.utexas.edu</a> no later than seven business days prior to the event.</p>
CATEGORIES:Panel Discussion / Speaker Series
LOCATION:Career Services Interview Suite (TNH 3.122)
URL:http://law.utexas.edu/calendar/2013/04/11/15917/
CLASS:PUBLIC
STATUS:CONFIRMED
COMMENT:Please contact Mary Crouter at <a href="mailto:mcrouter@law.utexas.edu">mcrouter@law.utexas.edu</a>.
END:VEVENT
END:VCALENDAR