BEGIN:VCALENDAR
VERSION:2.0
PRODID:-//UNIVERSITY OF TEXAS SCHOOL OF LAW//NONSGML Events Calendar v1.0//EN
X-WR-TIMEZONE:America/Chicago
BEGIN:VTIMEZONE
TZID:US/Central
X-LIC-LOCATION:America/Chicago
BEGIN:DAYLIGHT
TZOFFSETFROM:-0600
TZOFFSETTO:-0500
TZNAME:CDT
DTSTART:19700308T020000
RRULE:FREQ=YEARLY;BYMONTH=3;BYDAY=2SU
END:DAYLIGHT
BEGIN:STANDARD
TZOFFSETFROM:-0500
TZOFFSETTO:-0600
TZNAME:CST
DTSTART:19701101T020000
RRULE:FREQ=YEARLY;BYMONTH=11;BYDAY=1SU
END:STANDARD
END:VTIMEZONE
BEGIN:VEVENT
DTSTART;TZID=US/Central:20130411T120000
DTEND;VALUE=DATE-TIME;TZID=US/Central:20130411T130000

DTSTAMP:20260422T165700Z
CREATED:20130328T164400Z
LAST-MODIFIED:20130410T133300Z
UID:20130411T120000-16465@law.utexas.edu
SUMMARY:So, You Want To Be A Tax Lawyer?
DESCRIPTION:<p>The <a href="http://www.texastaxsection.org/">State Bar of Texas Tax Section</a> will present a discussion about various career opportunities available to attorneys in the area of tax law. Panelists include <a href="http://www.fulbright.com/podaniel">Patrick O’Daniel ‘92</a>, Partner at Fulbright &amp; Jaworski L.L.P.; <a href="http://www.gsrp.com/our_people/partners/cindy.html">Cindy Grossman ‘04</a>, Partner at Giordani Swanger Ripp &amp; Phillips LLP; <a href="http://cbjlawfirm.com/attorneys/corby-brooks">Corby Brooks, ’04</a>, Cook Brooks Johnson PLLC; <a href="http://www.trla.org/directory">Mandi Matlock ‘00</a>, Texas RioGrande Legal Aid; and Daniel Price ’02, IRS Office of Chief Counsel. Moderated by <a href="http://www.mondriklaw.com/index.php?id=5">Christi Mondrik ‘01</a>, Mondrik &amp; Associates. Lunch will be served. RSVP by Wednesday, April 10, on <a href="https://law-utexas-csm.symplicity.com/students/">UT Law Symplicity</a> by selecting the “Events” tab.</p>\n\nIf you need an accommodation to participate in this event, please contact the event sponsor or the Texas Law Special Events Office at specialevents@law.utexas.edu no later than seven business days prior to the event.
X-ALT-DESC;FMTTYPE=text/html:<p>The <a href="http://www.texastaxsection.org/">State Bar of Texas Tax Section</a> will present a discussion about various career opportunities available to attorneys in the area of tax law. Panelists include <a href="http://www.fulbright.com/podaniel">Patrick O’Daniel ‘92</a>, Partner at Fulbright &amp; Jaworski L.L.P.; <a href="http://www.gsrp.com/our_people/partners/cindy.html">Cindy Grossman ‘04</a>, Partner at Giordani Swanger Ripp &amp; Phillips LLP; <a href="http://cbjlawfirm.com/attorneys/corby-brooks">Corby Brooks, ’04</a>, Cook Brooks Johnson PLLC; <a href="http://www.trla.org/directory">Mandi Matlock ‘00</a>, Texas RioGrande Legal Aid; and Daniel Price ’02, IRS Office of Chief Counsel. Moderated by <a href="http://www.mondriklaw.com/index.php?id=5">Christi Mondrik ‘01</a>, Mondrik &amp; Associates. Lunch will be served. RSVP by Wednesday, April 10, on <a href="https://law-utexas-csm.symplicity.com/students/">UT Law Symplicity</a> by selecting the “Events” tab.</p><p>If you need an accommodation to participate in this event, please contact the event
                                          event sponsor or the Texas Law Special Events Office at <a href="mailto:specialevents@law.utexas.edu">specialevents@law.utexas.edu</a> no later than seven business days prior to the event.</p>

LOCATION:TNH 3.129 - Atlas Seminar Room
URL:http://law.utexas.edu/calendar/2013/04/11/16465/
CLASS:PUBLIC
STATUS:CONFIRMED
COMMENT:Please contact Simone Leavenworth, Career Counselor, at <a href="mailto:sleavenworth@law.utexas.edu">sleavenworth@law.utexas.edu</a> or 512-232-1157 in the CSO.
END:VEVENT
END:VCALENDAR