BEGIN:VCALENDAR
VERSION:2.0
PRODID:-//UNIVERSITY OF TEXAS SCHOOL OF LAW//NONSGML Events Calendar v1.0//EN
X-WR-TIMEZONE:America/Chicago
BEGIN:VTIMEZONE
TZID:US/Central
X-LIC-LOCATION:America/Chicago
BEGIN:DAYLIGHT
TZOFFSETFROM:-0600
TZOFFSETTO:-0500
TZNAME:CDT
DTSTART:19700308T020000
RRULE:FREQ=YEARLY;BYMONTH=3;BYDAY=2SU
END:DAYLIGHT
BEGIN:STANDARD
TZOFFSETFROM:-0500
TZOFFSETTO:-0600
TZNAME:CST
DTSTART:19701101T020000
RRULE:FREQ=YEARLY;BYMONTH=11;BYDAY=1SU
END:STANDARD
END:VTIMEZONE
BEGIN:VEVENT
DTSTART;TZID=US/Central:20130411T120000
DTEND;VALUE=DATE-TIME;TZID=US/Central:20130411T130000

DTSTAMP:20260422T164100Z
CREATED:20130405T172100Z
LAST-MODIFIED:20130410T151900Z
UID:20130411T120000-16554@law.utexas.edu
SUMMARY:Hot Issues &amp; Career Opportunities at EPA
DESCRIPTION:<p><a href="http://www.epa.gov/ogc/regional.htm">Suzanne Murray, EPA Region 6 General Counsel</a>, will discuss issues the region (Texas, Louisiana, Oklahoma, Arkansas and New Mexico) is facing and the role of its attorneys in addressing them. She’ll also discuss opportunities at the EPA. Sponsored by the <a href="http://www.utexas.edu/law/academics/centers/energy/">Center for Global Energy, International Arbitration and Environmental Law</a> and the UT Law <a href="http://www.utexas.edu/law/career">Career Services Office</a>.</p>
  <p>Lunch will be served. RSVP by Wednesday, April 10, on <a href="https://law-utexas-csm.symplicity.com/students/">UT Law Symplicity</a> by selecting the “Events” tab.</p>\n\nIf you need an accommodation to participate in this event, please contact the event sponsor or the Texas Law Special Events Office at specialevents@law.utexas.edu no later than seven business days prior to the event.
X-ALT-DESC;FMTTYPE=text/html:<p><a href="http://www.epa.gov/ogc/regional.htm">Suzanne Murray, EPA Region 6 General Counsel</a>, will discuss issues the region (Texas, Louisiana, Oklahoma, Arkansas and New Mexico) is facing and the role of its attorneys in addressing them. She’ll also discuss opportunities at the EPA. Sponsored by the <a href="http://www.utexas.edu/law/academics/centers/energy/">Center for Global Energy, International Arbitration and Environmental Law</a> and the UT Law <a href="http://www.utexas.edu/law/career">Career Services Office</a>.</p>
  <p>Lunch will be served. RSVP by Wednesday, April 10, on <a href="https://law-utexas-csm.symplicity.com/students/">UT Law Symplicity</a> by selecting the “Events” tab.</p><p>If you need an accommodation to participate in this event, please contact the event
                                          event sponsor or the Texas Law Special Events Office at <a href="mailto:specialevents@law.utexas.edu">specialevents@law.utexas.edu</a> no later than seven business days prior to the event.</p>
CATEGORIES:Lunch
LOCATION:JON 5.208 - Susman Academic Center, Bryan and Michelle Goolsby Conference Suite
URL:http://law.utexas.edu/calendar/2013/04/11/16554/
CLASS:PUBLIC
STATUS:CONFIRMED

END:VEVENT
END:VCALENDAR