BEGIN:VCALENDAR
VERSION:2.0
PRODID:-//UNIVERSITY OF TEXAS SCHOOL OF LAW//NONSGML Events Calendar v1.0//EN
X-WR-TIMEZONE:America/Chicago
BEGIN:VTIMEZONE
TZID:US/Central
X-LIC-LOCATION:America/Chicago
BEGIN:DAYLIGHT
TZOFFSETFROM:-0600
TZOFFSETTO:-0500
TZNAME:CDT
DTSTART:19700308T020000
RRULE:FREQ=YEARLY;BYMONTH=3;BYDAY=2SU
END:DAYLIGHT
BEGIN:STANDARD
TZOFFSETFROM:-0500
TZOFFSETTO:-0600
TZNAME:CST
DTSTART:19701101T020000
RRULE:FREQ=YEARLY;BYMONTH=11;BYDAY=1SU
END:STANDARD
END:VTIMEZONE
BEGIN:VEVENT
DTSTART;TZID=US/Central:20130415T130000
DTEND;VALUE=DATE-TIME;TZID=US/Central:20130415T134500

DTSTAMP:20260422T153200Z
CREATED:20130414T191300Z
LAST-MODIFIED:20130414T191300Z
UID:20130415T130000-16595@law.utexas.edu
SUMMARY:Health Law Society Board Elections
DESCRIPTION:<p>The Health Law &amp; Bioethics Society will be holding a meeting to elect the board for the 2013-2014 academic year.  Students, our organization is free to join, and you are invited to attend this meeting to join and vote for the board, or run for an open position! If you have any questions, contact the current President, Layla Garcia at laylafawngarcia@utexas.edu. Thank you for your interest. </p>\n\nIf you need an accommodation to participate in this event, please contact the event sponsor or the Texas Law Special Events Office at specialevents@law.utexas.edu no later than seven business days prior to the event.
X-ALT-DESC;FMTTYPE=text/html:<p>The Health Law &amp; Bioethics Society will be holding a meeting to elect the board for the 2013-2014 academic year.  Students, our organization is free to join, and you are invited to attend this meeting to join and vote for the board, or run for an open position! If you have any questions, contact the current President, Layla Garcia at laylafawngarcia@utexas.edu. Thank you for your interest. </p><p>If you need an accommodation to participate in this event, please contact the event
                                          event sponsor or the Texas Law Special Events Office at <a href="mailto:specialevents@law.utexas.edu">specialevents@law.utexas.edu</a> no later than seven business days prior to the event.</p>
CATEGORIES:Meeting
LOCATION:TNH 3.115 - Bell Seminar Room
URL:http://law.utexas.edu/calendar/2013/04/15/16595/
CLASS:PUBLIC
STATUS:CONFIRMED

END:VEVENT
END:VCALENDAR