BEGIN:VCALENDAR
VERSION:2.0
PRODID:-//UNIVERSITY OF TEXAS SCHOOL OF LAW//NONSGML Events Calendar v1.0//EN
X-WR-TIMEZONE:America/Chicago
BEGIN:VTIMEZONE
TZID:US/Central
X-LIC-LOCATION:America/Chicago
BEGIN:DAYLIGHT
TZOFFSETFROM:-0600
TZOFFSETTO:-0500
TZNAME:CDT
DTSTART:19700308T020000
RRULE:FREQ=YEARLY;BYMONTH=3;BYDAY=2SU
END:DAYLIGHT
BEGIN:STANDARD
TZOFFSETFROM:-0500
TZOFFSETTO:-0600
TZNAME:CST
DTSTART:19701101T020000
RRULE:FREQ=YEARLY;BYMONTH=11;BYDAY=1SU
END:STANDARD
END:VTIMEZONE
BEGIN:VEVENT
DTSTART;TZID=US/Central:20130416T113000
DTEND;VALUE=DATE-TIME;TZID=US/Central:20130416T130000

DTSTAMP:20260422T180900Z
CREATED:20121022T194200Z
LAST-MODIFIED:20130415T205600Z
UID:20130416T113000-15355@law.utexas.edu
SUMMARY:Summer Judicial Internship Orientaion
DESCRIPTION:<p>Summer Judicial Internship Program Orientation - mandatory meeting for all students who plan to participate in the summer 2013 judicial internship program. For more information about the judicial internship program, see <a href="http://www.utexas.edu/law/centers/publicinterest/judintern/">http://www.utexas.edu/law/centers/publicinterest/judintern/</a></p>
  <p>Room TBA</p>\n\nIf you need an accommodation to participate in this event, please contact the event sponsor or the Texas Law Special Events Office at specialevents@law.utexas.edu no later than seven business days prior to the event.
X-ALT-DESC;FMTTYPE=text/html:<p>Summer Judicial Internship Program Orientation - mandatory meeting for all students who plan to participate in the summer 2013 judicial internship program. For more information about the judicial internship program, see <a href="http://www.utexas.edu/law/centers/publicinterest/judintern/">http://www.utexas.edu/law/centers/publicinterest/judintern/</a></p>
  <p>Room TBA</p><p>If you need an accommodation to participate in this event, please contact the event
                                          event sponsor or the Texas Law Special Events Office at <a href="mailto:specialevents@law.utexas.edu">specialevents@law.utexas.edu</a> no later than seven business days prior to the event.</p>
CATEGORIES:Other
LOCATION:TNH 2.139 - Wilson Classroom
URL:http://law.utexas.edu/calendar/2013/04/16/15355/
CLASS:PUBLIC
STATUS:CONFIRMED

END:VEVENT
END:VCALENDAR