BEGIN:VCALENDAR
VERSION:2.0
PRODID:-//UNIVERSITY OF TEXAS SCHOOL OF LAW//NONSGML Events Calendar v1.0//EN
X-WR-TIMEZONE:America/Chicago
BEGIN:VTIMEZONE
TZID:US/Central
X-LIC-LOCATION:America/Chicago
BEGIN:DAYLIGHT
TZOFFSETFROM:-0600
TZOFFSETTO:-0500
TZNAME:CDT
DTSTART:19700308T020000
RRULE:FREQ=YEARLY;BYMONTH=3;BYDAY=2SU
END:DAYLIGHT
BEGIN:STANDARD
TZOFFSETFROM:-0500
TZOFFSETTO:-0600
TZNAME:CST
DTSTART:19701101T020000
RRULE:FREQ=YEARLY;BYMONTH=11;BYDAY=1SU
END:STANDARD
END:VTIMEZONE
BEGIN:VEVENT
DTSTART;TZID=US/Central:20130416T121500
DTEND;VALUE=DATE-TIME;TZID=US/Central:20130416T130000

DTSTAMP:20260422T180900Z
CREATED:20130328T165500Z
LAST-MODIFIED:20130412T192300Z
UID:20130416T121500-16466@law.utexas.edu
SUMMARY:Fall OCI Application Advice
DESCRIPTION:<p>During Study Break, stop by and grab some lunch in the Atrium and then stop by the Auditorium to learn more about preparing for <a href="https://www.utexas.edu/law/career/oci/index.html">Fall OCI</a> and <a href="https://www.utexas.edu/law/career/fairs/index.html">job fairs</a> this summer. Don’t miss this opportunity to ask upperclassmen everything you’d like to know about the application/bidding process for Fall OCI. Panelists include Katie Ostrander (2L), Emily Stegich (2L), Kevin Vermillion (2L), and Sarah McDermand (3L).  Co-sponsored by the Action Committee for Career Services. Bidding for Fall OCI takes place June 27-July 12 for Fall OCI: Session One. RSVP by Monday, April 15, on <a title="UT Law Symplicity" href="https://law-utexas-csm.symplicity.com/students">UT Law Symplicity</a> by selecting the "Events" tab.</p>\n\nIf you need an accommodation to participate in this event, please contact the event sponsor or the Texas Law Special Events Office at specialevents@law.utexas.edu no later than seven business days prior to the event.
X-ALT-DESC;FMTTYPE=text/html:<p>During Study Break, stop by and grab some lunch in the Atrium and then stop by the Auditorium to learn more about preparing for <a href="https://www.utexas.edu/law/career/oci/index.html">Fall OCI</a> and <a href="https://www.utexas.edu/law/career/fairs/index.html">job fairs</a> this summer. Don’t miss this opportunity to ask upperclassmen everything you’d like to know about the application/bidding process for Fall OCI. Panelists include Katie Ostrander (2L), Emily Stegich (2L), Kevin Vermillion (2L), and Sarah McDermand (3L).  Co-sponsored by the Action Committee for Career Services. Bidding for Fall OCI takes place June 27-July 12 for Fall OCI: Session One. RSVP by Monday, April 15, on <a title="UT Law Symplicity" href="https://law-utexas-csm.symplicity.com/students">UT Law Symplicity</a> by selecting the "Events" tab.</p><p>If you need an accommodation to participate in this event, please contact the event
                                          event sponsor or the Texas Law Special Events Office at <a href="mailto:specialevents@law.utexas.edu">specialevents@law.utexas.edu</a> no later than seven business days prior to the event.</p>
CATEGORIES:Workshop / Training Program
LOCATION:TNH 2.114 - Francis Auditorium
URL:http://law.utexas.edu/calendar/2013/04/16/16466/
CLASS:PUBLIC
STATUS:CONFIRMED
COMMENT:Please contact Deb Freeman at 512-232-2162 or <a href="mailto:dfreeman@law.utexas.edu">dfreeman@law.utexas.edu</a>.
END:VEVENT
END:VCALENDAR