BEGIN:VCALENDAR
VERSION:2.0
PRODID:-//UNIVERSITY OF TEXAS SCHOOL OF LAW//NONSGML Events Calendar v1.0//EN
X-WR-TIMEZONE:America/Chicago
BEGIN:VTIMEZONE
TZID:US/Central
X-LIC-LOCATION:America/Chicago
BEGIN:DAYLIGHT
TZOFFSETFROM:-0600
TZOFFSETTO:-0500
TZNAME:CDT
DTSTART:19700308T020000
RRULE:FREQ=YEARLY;BYMONTH=3;BYDAY=2SU
END:DAYLIGHT
BEGIN:STANDARD
TZOFFSETFROM:-0500
TZOFFSETTO:-0600
TZNAME:CST
DTSTART:19701101T020000
RRULE:FREQ=YEARLY;BYMONTH=11;BYDAY=1SU
END:STANDARD
END:VTIMEZONE
BEGIN:VEVENT
DTSTART;TZID=US/Central:20130418T120000
DTEND;VALUE=DATE-TIME;TZID=US/Central:20130418T130000

DTSTAMP:20260422T180900Z
CREATED:20130215T185000Z
LAST-MODIFIED:20130417T192600Z
UID:20130418T120000-16120@law.utexas.edu
SUMMARY:Getting the Most Out of Summer Position
DESCRIPTION:<p>Getting the Most Out of Your Summer Nonprofit or Government Position
  Thursday, April 18, Noon – 1:00pm, TNH 2.138 
  Lunch will be served.</p>
  <p>Working for a nonprofit or government agency this summer?  This session will prepare you to thrive and get the most out of your summer work experience. Tina Fernandez, Director of Pro Bono Programs, along with a panel of students familiar with nonprofit and government settings, will discuss how to handle opportunities and challenges that come up in these unique work environments, including getting great work and supervision, and steering clear of ethical pitfalls.  </p>
  <p>Please RSVP by Wednesday, April 17, on UT Law Symplicity by selecting the “Events” tab.</p>
  <p>Sponsored by the William Wayne Justice Center for Public Interest Law, the Public Interest Law Association, OutLaw, the Chicano/Hispanic Law Students Association, and the Career Services Office
  </p>\n\nIf you need an accommodation to participate in this event, please contact the event sponsor or the Texas Law Special Events Office at specialevents@law.utexas.edu no later than seven business days prior to the event.
X-ALT-DESC;FMTTYPE=text/html:<p>Getting the Most Out of Your Summer Nonprofit or Government Position
  Thursday, April 18, Noon – 1:00pm, TNH 2.138 
  Lunch will be served.</p>
  <p>Working for a nonprofit or government agency this summer?  This session will prepare you to thrive and get the most out of your summer work experience. Tina Fernandez, Director of Pro Bono Programs, along with a panel of students familiar with nonprofit and government settings, will discuss how to handle opportunities and challenges that come up in these unique work environments, including getting great work and supervision, and steering clear of ethical pitfalls.  </p>
  <p>Please RSVP by Wednesday, April 17, on UT Law Symplicity by selecting the “Events” tab.</p>
  <p>Sponsored by the William Wayne Justice Center for Public Interest Law, the Public Interest Law Association, OutLaw, the Chicano/Hispanic Law Students Association, and the Career Services Office
  </p><p>If you need an accommodation to participate in this event, please contact the event
                                          event sponsor or the Texas Law Special Events Office at <a href="mailto:specialevents@law.utexas.edu">specialevents@law.utexas.edu</a> no later than seven business days prior to the event.</p>
CATEGORIES:Workshop / Training Program
LOCATION:TNH 2.138 - Blanton Classroom
URL:http://law.utexas.edu/calendar/2013/04/18/16120/
CLASS:PUBLIC
STATUS:CONFIRMED

END:VEVENT
END:VCALENDAR