BEGIN:VCALENDAR
VERSION:2.0
PRODID:-//UNIVERSITY OF TEXAS SCHOOL OF LAW//NONSGML Events Calendar v1.0//EN
X-WR-TIMEZONE:America/Chicago
BEGIN:VTIMEZONE
TZID:US/Central
X-LIC-LOCATION:America/Chicago
BEGIN:DAYLIGHT
TZOFFSETFROM:-0600
TZOFFSETTO:-0500
TZNAME:CDT
DTSTART:19700308T020000
RRULE:FREQ=YEARLY;BYMONTH=3;BYDAY=2SU
END:DAYLIGHT
BEGIN:STANDARD
TZOFFSETFROM:-0500
TZOFFSETTO:-0600
TZNAME:CST
DTSTART:19701101T020000
RRULE:FREQ=YEARLY;BYMONTH=11;BYDAY=1SU
END:STANDARD
END:VTIMEZONE
BEGIN:VEVENT
DTSTART;TZID=US/Central:20130419T120000
DTEND;VALUE=DATE-TIME;TZID=US/Central:20130419T133000

DTSTAMP:20260422T153100Z
CREATED:20130402T184800Z
LAST-MODIFIED:20130402T185300Z
UID:20130419T120000-16523@law.utexas.edu
SUMMARY:School Finance: Now What?
DESCRIPTION:<p>The UT Opportunity Forum is pleased to announce an upcoming discussion with education experts on the unresolved issue of school finance in Texas.  The event is presented by UT Opportunity Forum, The Texas Tribune, and the Center for Politics and Governance at the LBJ School of Public Affairs.</p>
  <p>
  Panelists include:</p>
  <p>Florence Shapiro, a former public school teacher, Plano city councilwoman and mayor first elected to represent Senate District 8 in 1993. In the Senate, she served as chairwoman of the Public Education Committee for 10 years. She passed legislation affecting the state's school finance system in the areas of property taxes, funding and teacher pay and established the incentive-pay program. She has also focused her efforts on educational reform at the high school level that promotes college readiness and supports better accountability standards for schools.</p>
  <p>Scott Hochberg, a former state representative and current lecturer at Rice University. He was first elected to represent southwest Houston in 1993 and served in the Texas House for 20 years. He currently teaches a course at Rice University on education policy, drawing from his experience serving 10 terms on the House Public Education Committee and three terms as chairman of the House Appropriations Subcommittee on Education. </p>
  <p>David Thompson, a partner at Thompson &amp; Horton, LLC. He represents public school districts, junior colleges and other educational entities in the Gulf Coast area and across Texas. Thompson serves as legislative counsel for the Texas Association of School Administrators, the Fast Growth School Coalition, the Houston Independent School District, other school districts and education organizations, and has been actively involved in most legislative activities affecting public education in the past 20 years.</p>
  <p>Kent Grusendorf, executive director of Texans for Real Efficiency and Equity in Education. He is a former member of the State Board of Education and served in the Texas House from 1987 to 2007. While in the House, he served as chairman of the House Education Committee during the last public school finance debate.</p>
  <p>
  DETAILS:</p>
  <p>Friday, April 19, 2013 </p>
  <p>12 p.m. - 1:30 p.m. Complimentary lunch will be served at noon. Conversation begins at 12:15 p.m. </p>
  <p>Bass Lecture Hall, LBJ School of Public Affairs (map) </p>
  <p>Space is limited and an RSVP is required.  Please RSVP not later than Thursday, April 18, 2013 at 5pm.  </p>
  <p>Questions??  Contact rsvp@texastribune.org or 512-716-8641.</p>
  <p>This event is generously supported by Thompson &amp; Horton, LLC and AVID (Advancement Via Individual Determination).</p>\n\nIf you need an accommodation to participate in this event, please contact the event sponsor or the Texas Law Special Events Office at specialevents@law.utexas.edu no later than seven business days prior to the event.
X-ALT-DESC;FMTTYPE=text/html:<p>The UT Opportunity Forum is pleased to announce an upcoming discussion with education experts on the unresolved issue of school finance in Texas.  The event is presented by UT Opportunity Forum, The Texas Tribune, and the Center for Politics and Governance at the LBJ School of Public Affairs.</p>
  <p>
  Panelists include:</p>
  <p>Florence Shapiro, a former public school teacher, Plano city councilwoman and mayor first elected to represent Senate District 8 in 1993. In the Senate, she served as chairwoman of the Public Education Committee for 10 years. She passed legislation affecting the state's school finance system in the areas of property taxes, funding and teacher pay and established the incentive-pay program. She has also focused her efforts on educational reform at the high school level that promotes college readiness and supports better accountability standards for schools.</p>
  <p>Scott Hochberg, a former state representative and current lecturer at Rice University. He was first elected to represent southwest Houston in 1993 and served in the Texas House for 20 years. He currently teaches a course at Rice University on education policy, drawing from his experience serving 10 terms on the House Public Education Committee and three terms as chairman of the House Appropriations Subcommittee on Education. </p>
  <p>David Thompson, a partner at Thompson &amp; Horton, LLC. He represents public school districts, junior colleges and other educational entities in the Gulf Coast area and across Texas. Thompson serves as legislative counsel for the Texas Association of School Administrators, the Fast Growth School Coalition, the Houston Independent School District, other school districts and education organizations, and has been actively involved in most legislative activities affecting public education in the past 20 years.</p>
  <p>Kent Grusendorf, executive director of Texans for Real Efficiency and Equity in Education. He is a former member of the State Board of Education and served in the Texas House from 1987 to 2007. While in the House, he served as chairman of the House Education Committee during the last public school finance debate.</p>
  <p>
  DETAILS:</p>
  <p>Friday, April 19, 2013 </p>
  <p>12 p.m. - 1:30 p.m. Complimentary lunch will be served at noon. Conversation begins at 12:15 p.m. </p>
  <p>Bass Lecture Hall, LBJ School of Public Affairs (map) </p>
  <p>Space is limited and an RSVP is required.  Please RSVP not later than Thursday, April 18, 2013 at 5pm.  </p>
  <p>Questions??  Contact rsvp@texastribune.org or 512-716-8641.</p>
  <p>This event is generously supported by Thompson &amp; Horton, LLC and AVID (Advancement Via Individual Determination).</p><p>If you need an accommodation to participate in this event, please contact the event
                                          event sponsor or the Texas Law Special Events Office at <a href="mailto:specialevents@law.utexas.edu">specialevents@law.utexas.edu</a> no later than seven business days prior to the event.</p>
CATEGORIES:Panel Discussion / Speaker Series
LOCATION:Bass Lecture Hall, LBJ School of Public Affairs
URL:http://law.utexas.edu/calendar/2013/04/19/16523/
CLASS:PUBLIC
STATUS:CONFIRMED
COMMENT:mailto:rsvp@texastribune.org
END:VEVENT
END:VCALENDAR