BEGIN:VCALENDAR
VERSION:2.0
PRODID:-//UNIVERSITY OF TEXAS SCHOOL OF LAW//NONSGML Events Calendar v1.0//EN
X-WR-TIMEZONE:America/Chicago
BEGIN:VTIMEZONE
TZID:US/Central
X-LIC-LOCATION:America/Chicago
BEGIN:DAYLIGHT
TZOFFSETFROM:-0600
TZOFFSETTO:-0500
TZNAME:CDT
DTSTART:19700308T020000
RRULE:FREQ=YEARLY;BYMONTH=3;BYDAY=2SU
END:DAYLIGHT
BEGIN:STANDARD
TZOFFSETFROM:-0500
TZOFFSETTO:-0600
TZNAME:CST
DTSTART:19701101T020000
RRULE:FREQ=YEARLY;BYMONTH=11;BYDAY=1SU
END:STANDARD
END:VTIMEZONE
BEGIN:VEVENT
DTSTART;TZID=US/Central:20130422T154500
DTEND;VALUE=DATE-TIME;TZID=US/Central:20130422T164500

DTSTAMP:20260422T164000Z
CREATED:20130416T235400Z
LAST-MODIFIED:20130422T133600Z
UID:20130422T154500-16617@law.utexas.edu
SUMMARY:1Ls: Judicial Clerkship Study Break
DESCRIPTION:<p>Have you been wondering about judicial clerkships? Believe it or not, decisions you are making now affect your application. The Clerkship Advisors (Prof. Alex Albright, Prof. Elana Einhorn, and Remi Ratliff, Director of Judicial Programs) will discuss what law clerks do; why clerkships help you become a successful lawyer; what judges look for in selecting a law clerk; and what you can do now to become a successful candidate, including which courses to take. Q&amp;A to follow from 4:15-4:45 p.m. Tiff’s Treats will be served. RSVP by Friday, April 19, on <a title="UT Law Symplicity" href="https://law-utexas-csm.symplicity.com/students">UT Law Symplicity</a> by selecting the "Events" tab.</p>\n\nIf you need an accommodation to participate in this event, please contact the event sponsor or the Texas Law Special Events Office at specialevents@law.utexas.edu no later than seven business days prior to the event.
X-ALT-DESC;FMTTYPE=text/html:<p>Have you been wondering about judicial clerkships? Believe it or not, decisions you are making now affect your application. The Clerkship Advisors (Prof. Alex Albright, Prof. Elana Einhorn, and Remi Ratliff, Director of Judicial Programs) will discuss what law clerks do; why clerkships help you become a successful lawyer; what judges look for in selecting a law clerk; and what you can do now to become a successful candidate, including which courses to take. Q&amp;A to follow from 4:15-4:45 p.m. Tiff’s Treats will be served. RSVP by Friday, April 19, on <a title="UT Law Symplicity" href="https://law-utexas-csm.symplicity.com/students">UT Law Symplicity</a> by selecting the "Events" tab.</p><p>If you need an accommodation to participate in this event, please contact the event
                                          event sponsor or the Texas Law Special Events Office at <a href="mailto:specialevents@law.utexas.edu">specialevents@law.utexas.edu</a> no later than seven business days prior to the event.</p>
CATEGORIES:Meeting
LOCATION:TNH 2.137 - Gayle Classroom
URL:http://law.utexas.edu/calendar/2013/04/22/16617/
CLASS:PUBLIC
STATUS:CONFIRMED
COMMENT:Please contact Remi Ratliff, Director of Judicial Programs, at 512-232-1163 or <a href="mailto:rrattliff@law.utexas.edu">rratliff@law.utexas.edu</a>.
END:VEVENT
END:VCALENDAR