BEGIN:VCALENDAR
VERSION:2.0
PRODID:-//UNIVERSITY OF TEXAS SCHOOL OF LAW//NONSGML Events Calendar v1.0//EN
X-WR-TIMEZONE:America/Chicago
BEGIN:VTIMEZONE
TZID:US/Central
X-LIC-LOCATION:America/Chicago
BEGIN:DAYLIGHT
TZOFFSETFROM:-0600
TZOFFSETTO:-0500
TZNAME:CDT
DTSTART:19700308T020000
RRULE:FREQ=YEARLY;BYMONTH=3;BYDAY=2SU
END:DAYLIGHT
BEGIN:STANDARD
TZOFFSETFROM:-0500
TZOFFSETTO:-0600
TZNAME:CST
DTSTART:19701101T020000
RRULE:FREQ=YEARLY;BYMONTH=11;BYDAY=1SU
END:STANDARD
END:VTIMEZONE
BEGIN:VEVENT
DTSTART;TZID=US/Central:20130423T120000
DTEND;VALUE=DATE-TIME;TZID=US/Central:20130423T130000

DTSTAMP:20260422T153100Z
CREATED:20130124T000900Z
LAST-MODIFIED:20130124T161300Z
UID:20130423T120000-15950@law.utexas.edu
SUMMARY:Beck Awards
DESCRIPTION:<p>A luncheon awards ceremony during which the faculty of the David J. Beck Center for Legal Research, Writing, and Appellate Advocacy will present the Beck Award for Legal Research and Writing Excellence.</p>\n\nIf you need an accommodation to participate in this event, please contact the event sponsor or the Texas Law Special Events Office at specialevents@law.utexas.edu no later than seven business days prior to the event.
X-ALT-DESC;FMTTYPE=text/html:<p>A luncheon awards ceremony during which the faculty of the David J. Beck Center for Legal Research, Writing, and Appellate Advocacy will present the Beck Award for Legal Research and Writing Excellence.</p><p>If you need an accommodation to participate in this event, please contact the event
                                          event sponsor or the Texas Law Special Events Office at <a href="mailto:specialevents@law.utexas.edu">specialevents@law.utexas.edu</a> no later than seven business days prior to the event.</p>
CATEGORIES:Lunch
LOCATION:TNH 2.111 - Sheffield-Massey Room
URL:http://law.utexas.edu/calendar/2013/04/23/15950/
CLASS:PUBLIC
STATUS:CONFIRMED
COMMENT:Wayne Schiess
END:VEVENT
END:VCALENDAR