BEGIN:VCALENDAR
VERSION:2.0
PRODID:-//UNIVERSITY OF TEXAS SCHOOL OF LAW//NONSGML Events Calendar v1.0//EN
X-WR-TIMEZONE:America/Chicago
BEGIN:VTIMEZONE
TZID:US/Central
X-LIC-LOCATION:America/Chicago
BEGIN:DAYLIGHT
TZOFFSETFROM:-0600
TZOFFSETTO:-0500
TZNAME:CDT
DTSTART:19700308T020000
RRULE:FREQ=YEARLY;BYMONTH=3;BYDAY=2SU
END:DAYLIGHT
BEGIN:STANDARD
TZOFFSETFROM:-0500
TZOFFSETTO:-0600
TZNAME:CST
DTSTART:19701101T020000
RRULE:FREQ=YEARLY;BYMONTH=11;BYDAY=1SU
END:STANDARD
END:VTIMEZONE
BEGIN:VEVENT
DTSTART;TZID=US/Central:20130425T084500
DTEND;VALUE=DATE-TIME;TZID=US/Central:20130425T154500

DTSTAMP:20260422T165600Z
CREATED:20130412T152600Z
LAST-MODIFIED:20130412T152600Z
UID:20130425T084500-16593@law.utexas.edu
SUMMARY:Symposium on Dispute Resolution
DESCRIPTION:<p>The annual symposium, hosted by the Center for Public Policy Dispute Resolution at the UT School of Law, is a showcase for student presentations as well as a professional presentation on topics relevant to dispute resolution.  The student presentations culminate the requirements for completing the graduate portfolio program.
  The professional presentation, How to Keep Disputes from Derailing Long-Term Contracts, will provide insights into Dispute Resolution Boards (DRBs). The esteemed panel includes Bill Hinton with the DRB Foundation and Jeri Arbuckle with DART and will be moderated by Jeff Jury and Steve Nelson, experienced ADR practitioners.  </p>\n\nIf you need an accommodation to participate in this event, please contact the event sponsor or the Texas Law Special Events Office at specialevents@law.utexas.edu no later than seven business days prior to the event.
X-ALT-DESC;FMTTYPE=text/html:<p>The annual symposium, hosted by the Center for Public Policy Dispute Resolution at the UT School of Law, is a showcase for student presentations as well as a professional presentation on topics relevant to dispute resolution.  The student presentations culminate the requirements for completing the graduate portfolio program.
  The professional presentation, How to Keep Disputes from Derailing Long-Term Contracts, will provide insights into Dispute Resolution Boards (DRBs). The esteemed panel includes Bill Hinton with the DRB Foundation and Jeri Arbuckle with DART and will be moderated by Jeff Jury and Steve Nelson, experienced ADR practitioners.  </p><p>If you need an accommodation to participate in this event, please contact the event
                                          event sponsor or the Texas Law Special Events Office at <a href="mailto:specialevents@law.utexas.edu">specialevents@law.utexas.edu</a> no later than seven business days prior to the event.</p>
CATEGORIES:Symposium
LOCATION:CCJ 2.306 - Eidman Courtroom
URL:http://law.utexas.edu/calendar/2013/04/25/16593/
CLASS:PUBLIC
STATUS:CONFIRMED

END:VEVENT
END:VCALENDAR