BEGIN:VCALENDAR
VERSION:2.0
PRODID:-//UNIVERSITY OF TEXAS SCHOOL OF LAW//NONSGML Events Calendar v1.0//EN
X-WR-TIMEZONE:America/Chicago
BEGIN:VTIMEZONE
TZID:US/Central
X-LIC-LOCATION:America/Chicago
BEGIN:DAYLIGHT
TZOFFSETFROM:-0600
TZOFFSETTO:-0500
TZNAME:CDT
DTSTART:19700308T020000
RRULE:FREQ=YEARLY;BYMONTH=3;BYDAY=2SU
END:DAYLIGHT
BEGIN:STANDARD
TZOFFSETFROM:-0500
TZOFFSETTO:-0600
TZNAME:CST
DTSTART:19701101T020000
RRULE:FREQ=YEARLY;BYMONTH=11;BYDAY=1SU
END:STANDARD
END:VTIMEZONE
BEGIN:VEVENT
DTSTART;TZID=US/Central:20130430T083000
DTEND;VALUE=DATE-TIME;TZID=US/Central:20130430T173000

DTSTAMP:20260422T153000Z
CREATED:20130222T222300Z
LAST-MODIFIED:20130418T184700Z
UID:20130430T083000-16245@law.utexas.edu
SUMMARY:EUROPEAN PATENT PRACTICE SEMINAR 2013
DESCRIPTION:<p>PRESENTED BY
  Kuhnen &amp; Wacker and 
  The University of Texas School of Law</p>
  <p>European Patent Practice Seminar 2013, presented by The University of Texas School of Law and the German intellectual property law firm of Kuhnen &amp; Wacker, provides a unique forum for intellectual property attorneys to hear the latest in European Union patent practice and patent litigation from experts who practice in the EU on a day-to-day-basis. Kuhnen &amp; Wacker's EU-based attorneys and U.S.-based Of Counsel will examine and discuss topics ranging from EP Claim Drafting Specialties to Unitary Patents, Doctrine of Equivalents and Patent Filing and Cost-Saving Strategies, as well as International Patent Litigation and the Unified Patent Court. A panel discussion of the EPC (UPP) vs. AIA will provide insight into how the new statute has been implemented in practice and what it means for patent practitioners in the U.S. and Europe. Don't miss valuable expertise and timely insight into key intellectual property law developments.</p>
  <p>Kuhnen &amp; Wacker is an intellectual property law firm established more than 35 years ago in Freising/Munich, Germany and offers attorneys and staff who are highly specialized in intellectual property matters. The firm offers services in patents, utility models, designs, trademarks, domains, copyrights and trade secrets as well as IP evaluation and IP litigation and licensing. </p>
  <p>Register at www.utcle.org/conferences/details/conference_annual_id/1085</p>
  <p>UT Law Student Registration Information for UT Law CLE Conferences:</p>
  <p>UT Law CLE welcomes UT Law students to attend our live conferences. Student registration is limited and may not be available for all conferences. There are (2) options available for students to attend:</p>
  <p>• UT Law Student Registration ($75) – can attend all sessions, includes course materials on a USB key and meals</p>
  <p>• UT Law Student Attendee (FREE) – can attend all sessions, excludes course materials and meals</p>
  <p>Students MUST contact UT Law CLE to either register ($75) or attend at no charge–contact Justin Schaumburg at jschaumburg@law.utexas.edu or 512.475.6700.</p>\n\nIf you need an accommodation to participate in this event, please contact the event sponsor or the Texas Law Special Events Office at specialevents@law.utexas.edu no later than seven business days prior to the event.
X-ALT-DESC;FMTTYPE=text/html:<p>PRESENTED BY
  Kuhnen &amp; Wacker and 
  The University of Texas School of Law</p>
  <p>European Patent Practice Seminar 2013, presented by The University of Texas School of Law and the German intellectual property law firm of Kuhnen &amp; Wacker, provides a unique forum for intellectual property attorneys to hear the latest in European Union patent practice and patent litigation from experts who practice in the EU on a day-to-day-basis. Kuhnen &amp; Wacker's EU-based attorneys and U.S.-based Of Counsel will examine and discuss topics ranging from EP Claim Drafting Specialties to Unitary Patents, Doctrine of Equivalents and Patent Filing and Cost-Saving Strategies, as well as International Patent Litigation and the Unified Patent Court. A panel discussion of the EPC (UPP) vs. AIA will provide insight into how the new statute has been implemented in practice and what it means for patent practitioners in the U.S. and Europe. Don't miss valuable expertise and timely insight into key intellectual property law developments.</p>
  <p>Kuhnen &amp; Wacker is an intellectual property law firm established more than 35 years ago in Freising/Munich, Germany and offers attorneys and staff who are highly specialized in intellectual property matters. The firm offers services in patents, utility models, designs, trademarks, domains, copyrights and trade secrets as well as IP evaluation and IP litigation and licensing. </p>
  <p>Register at www.utcle.org/conferences/details/conference_annual_id/1085</p>
  <p>UT Law Student Registration Information for UT Law CLE Conferences:</p>
  <p>UT Law CLE welcomes UT Law students to attend our live conferences. Student registration is limited and may not be available for all conferences. There are (2) options available for students to attend:</p>
  <p>• UT Law Student Registration ($75) – can attend all sessions, includes course materials on a USB key and meals</p>
  <p>• UT Law Student Attendee (FREE) – can attend all sessions, excludes course materials and meals</p>
  <p>Students MUST contact UT Law CLE to either register ($75) or attend at no charge–contact Justin Schaumburg at jschaumburg@law.utexas.edu or 512.475.6700.</p><p>If you need an accommodation to participate in this event, please contact the event
                                          event sponsor or the Texas Law Special Events Office at <a href="mailto:specialevents@law.utexas.edu">specialevents@law.utexas.edu</a> no later than seven business days prior to the event.</p>
CATEGORIES:Other
LOCATION:AT&T Conference Center
URL:http://law.utexas.edu/calendar/2013/04/30/16245/
CLASS:PUBLIC
STATUS:CONFIRMED
COMMENT:http://utcle.org/conferences/details/conference_annual_id/1085
END:VEVENT
END:VCALENDAR