BEGIN:VCALENDAR
VERSION:2.0
PRODID:-//UNIVERSITY OF TEXAS SCHOOL OF LAW//NONSGML Events Calendar v1.0//EN
X-WR-TIMEZONE:America/Chicago
BEGIN:VTIMEZONE
TZID:US/Central
X-LIC-LOCATION:America/Chicago
BEGIN:DAYLIGHT
TZOFFSETFROM:-0600
TZOFFSETTO:-0500
TZNAME:CDT
DTSTART:19700308T020000
RRULE:FREQ=YEARLY;BYMONTH=3;BYDAY=2SU
END:DAYLIGHT
BEGIN:STANDARD
TZOFFSETFROM:-0500
TZOFFSETTO:-0600
TZNAME:CST
DTSTART:19701101T020000
RRULE:FREQ=YEARLY;BYMONTH=11;BYDAY=1SU
END:STANDARD
END:VTIMEZONE
BEGIN:VEVENT
DTSTART;TZID=US/Central:20130502T083000
DTEND;VALUE=DATE-TIME;TZID=US/Central:20130502T173000

DTSTAMP:20260422T134000Z
CREATED:20130222T221700Z
LAST-MODIFIED:20130418T184800Z
UID:20130502T083000-16242@law.utexas.edu
SUMMARY:CORPORATE COUNSEL INSTITUTE
DESCRIPTION:<p>Don’t miss UT Law’s 2013 Corporate Counsel Institute, presented with the Corporate Counsel Section of the State Bar of Texas. 2013 Institute highlights include:</p>
  <p>  • The Seven Habits of Highly Effective Attorneys</p>
  <p>  • Boilerplate Clauses that Can Get You into Trouble</p>
  <p>  • Nuts and Bolts of Licensing Technology and Intellectual Property</p>
  <p>  • Internal Investigations: Workplace Investigation of Current Employees</p>
  <p>  • When Civil and Criminal Law Collide: Recognizing When to Call a Criminal Lawyer</p>
  <p>  • Expectations of Privacy? Latest Developments in Data Security and Privacy</p>
  <p>  • Managing Your International Business: What Every General Counsel Should Know</p>
  <p>  • Risk Based Anti-Corruption Compliance Programs</p>
  <p>  • 15 credit hours including 4 hours of ethics </p>
  <p>Register at www.utcle.org/conferences/details/conference_annual_id/1059</p>
  <p>UT Law Student Registration Information for UT Law CLE Conferences:</p>
  <p>UT Law CLE welcomes UT Law students to attend our live conferences. Student registration is limited and may not be available for all conferences. There are (2) options available for students to attend:</p>
  <p>• UT Law Student Registration ($75) – can attend all sessions, includes course materials on a USB key and meals</p>
  <p>• UT Law Student Attendee (FREE) – can attend all sessions, excludes course materials and meals</p>
  <p>Students MUST contact UT Law CLE to either register ($75) or attend at no charge–contact Justin Schaumburg at jschaumburg@law.utexas.edu or 512.475.6700.</p>\n\nIf you need an accommodation to participate in this event, please contact the event sponsor or the Texas Law Special Events Office at specialevents@law.utexas.edu no later than seven business days prior to the event.
X-ALT-DESC;FMTTYPE=text/html:<p>Don’t miss UT Law’s 2013 Corporate Counsel Institute, presented with the Corporate Counsel Section of the State Bar of Texas. 2013 Institute highlights include:</p>
  <p>  • The Seven Habits of Highly Effective Attorneys</p>
  <p>  • Boilerplate Clauses that Can Get You into Trouble</p>
  <p>  • Nuts and Bolts of Licensing Technology and Intellectual Property</p>
  <p>  • Internal Investigations: Workplace Investigation of Current Employees</p>
  <p>  • When Civil and Criminal Law Collide: Recognizing When to Call a Criminal Lawyer</p>
  <p>  • Expectations of Privacy? Latest Developments in Data Security and Privacy</p>
  <p>  • Managing Your International Business: What Every General Counsel Should Know</p>
  <p>  • Risk Based Anti-Corruption Compliance Programs</p>
  <p>  • 15 credit hours including 4 hours of ethics </p>
  <p>Register at www.utcle.org/conferences/details/conference_annual_id/1059</p>
  <p>UT Law Student Registration Information for UT Law CLE Conferences:</p>
  <p>UT Law CLE welcomes UT Law students to attend our live conferences. Student registration is limited and may not be available for all conferences. There are (2) options available for students to attend:</p>
  <p>• UT Law Student Registration ($75) – can attend all sessions, includes course materials on a USB key and meals</p>
  <p>• UT Law Student Attendee (FREE) – can attend all sessions, excludes course materials and meals</p>
  <p>Students MUST contact UT Law CLE to either register ($75) or attend at no charge–contact Justin Schaumburg at jschaumburg@law.utexas.edu or 512.475.6700.</p><p>If you need an accommodation to participate in this event, please contact the event
                                          event sponsor or the Texas Law Special Events Office at <a href="mailto:specialevents@law.utexas.edu">specialevents@law.utexas.edu</a> no later than seven business days prior to the event.</p>
CATEGORIES:Other
LOCATION:Houston, Texas
URL:http://law.utexas.edu/calendar/2013/05/02/16242/
CLASS:PUBLIC
STATUS:CONFIRMED
COMMENT:http://utcle.org/conferences/details/conference_annual_id/1059
END:VEVENT
END:VCALENDAR