BEGIN:VCALENDAR
VERSION:2.0
PRODID:-//UNIVERSITY OF TEXAS SCHOOL OF LAW//NONSGML Events Calendar v1.0//EN
X-WR-TIMEZONE:America/Chicago
BEGIN:VTIMEZONE
TZID:US/Central
X-LIC-LOCATION:America/Chicago
BEGIN:DAYLIGHT
TZOFFSETFROM:-0600
TZOFFSETTO:-0500
TZNAME:CDT
DTSTART:19700308T020000
RRULE:FREQ=YEARLY;BYMONTH=3;BYDAY=2SU
END:DAYLIGHT
BEGIN:STANDARD
TZOFFSETFROM:-0500
TZOFFSETTO:-0600
TZNAME:CST
DTSTART:19701101T020000
RRULE:FREQ=YEARLY;BYMONTH=11;BYDAY=1SU
END:STANDARD
END:VTIMEZONE
BEGIN:VEVENT
DTSTART;TZID=US/Central:20130807
DTEND;TZID=US/Central:20130808
X-MICROSOFT-CDO-ALLDAYEVENT:TRUE
X-FUNAMBOL-ALLDAY:TRUE
DTSTAMP:20260422T075000Z
CREATED:20130613T184500Z
LAST-MODIFIED:20130804T233200Z
UID:20130807T000000-16835@law.utexas.edu
SUMMARY:Mock Interview Week
DESCRIPTION:<p>Improve your interviewing skills and receive feedback prior to Fall OCI by practicing with a CSO Career Counselor for a  30-minute, in-person mock interview. </p>\n\nIf you need an accommodation to participate in this event, please contact the event sponsor or the Texas Law Special Events Office at specialevents@law.utexas.edu no later than seven business days prior to the event.
X-ALT-DESC;FMTTYPE=text/html:<p>Improve your interviewing skills and receive feedback prior to Fall OCI by practicing with a CSO Career Counselor for a  30-minute, in-person mock interview. </p><p>If you need an accommodation to participate in this event, please contact the event
                                          event sponsor or the Texas Law Special Events Office at <a href="mailto:specialevents@law.utexas.edu">specialevents@law.utexas.edu</a> no later than seven business days prior to the event.</p>
CATEGORIES:Interview Program
LOCATION:Career Services Interview Suite (TNH 3.122)
URL:http://law.utexas.edu/calendar/2013/08/07/16835/
CLASS:PUBLIC
STATUS:CONFIRMED
COMMENT:Please contact Mandi Villarreal, Resource Coordinator, at 512-232-1150 or <a href="mailto:mvillarreal@law.utexas.edu">mvillarreal@law.utexas.edu</a>.
END:VEVENT
END:VCALENDAR