BEGIN:VCALENDAR
VERSION:2.0
PRODID:-//UNIVERSITY OF TEXAS SCHOOL OF LAW//NONSGML Events Calendar v1.0//EN
X-WR-TIMEZONE:America/Chicago
BEGIN:VTIMEZONE
TZID:US/Central
X-LIC-LOCATION:America/Chicago
BEGIN:DAYLIGHT
TZOFFSETFROM:-0600
TZOFFSETTO:-0500
TZNAME:CDT
DTSTART:19700308T020000
RRULE:FREQ=YEARLY;BYMONTH=3;BYDAY=2SU
END:DAYLIGHT
BEGIN:STANDARD
TZOFFSETFROM:-0500
TZOFFSETTO:-0600
TZNAME:CST
DTSTART:19701101T020000
RRULE:FREQ=YEARLY;BYMONTH=11;BYDAY=1SU
END:STANDARD
END:VTIMEZONE
BEGIN:VEVENT
DTSTART;TZID=US/Central:20130917T113000
DTEND;VALUE=DATE-TIME;TZID=US/Central:20130917T143000

DTSTAMP:20260422T092700Z
CREATED:20130807T180600Z
LAST-MODIFIED:20130807T180700Z
UID:20130917T113000-17083@law.utexas.edu
SUMMARY:Library Fest!
DESCRIPTION:<p>Come win fabulous prizes and feast on treats while checking out the Tarlton Law Library!</p>
  <p>The library is throwing open its doors so that UT law students can find out more about our services and tour the facility. You’ll get to see the hidden collections and chat with different librarians about all of the resources at your disposal. There will be treats and drawings for prizes at different stations. At the end of your visit, you’ll receive a gift and can enter your name for a grand prize drawing.</p>
  <p>We look forward to seeing you then!</p>\n\nIf you need an accommodation to participate in this event, please contact the event sponsor or the Texas Law Special Events Office at specialevents@law.utexas.edu no later than seven business days prior to the event.
X-ALT-DESC;FMTTYPE=text/html:<p>Come win fabulous prizes and feast on treats while checking out the Tarlton Law Library!</p>
  <p>The library is throwing open its doors so that UT law students can find out more about our services and tour the facility. You’ll get to see the hidden collections and chat with different librarians about all of the resources at your disposal. There will be treats and drawings for prizes at different stations. At the end of your visit, you’ll receive a gift and can enter your name for a grand prize drawing.</p>
  <p>We look forward to seeing you then!</p><p>If you need an accommodation to participate in this event, please contact the event
                                          event sponsor or the Texas Law Special Events Office at <a href="mailto:specialevents@law.utexas.edu">specialevents@law.utexas.edu</a> no later than seven business days prior to the event.</p>
CATEGORIES:Other
LOCATION:Tarlton Law Library
URL:http://law.utexas.edu/calendar/2013/09/17/17083/
CLASS:PUBLIC
STATUS:CONFIRMED

END:VEVENT
END:VCALENDAR