BEGIN:VCALENDAR
VERSION:2.0
PRODID:-//UNIVERSITY OF TEXAS SCHOOL OF LAW//NONSGML Events Calendar v1.0//EN
X-WR-TIMEZONE:America/Chicago
BEGIN:VTIMEZONE
TZID:US/Central
X-LIC-LOCATION:America/Chicago
BEGIN:DAYLIGHT
TZOFFSETFROM:-0600
TZOFFSETTO:-0500
TZNAME:CDT
DTSTART:19700308T020000
RRULE:FREQ=YEARLY;BYMONTH=3;BYDAY=2SU
END:DAYLIGHT
BEGIN:STANDARD
TZOFFSETFROM:-0500
TZOFFSETTO:-0600
TZNAME:CST
DTSTART:19701101T020000
RRULE:FREQ=YEARLY;BYMONTH=11;BYDAY=1SU
END:STANDARD
END:VTIMEZONE
BEGIN:VEVENT
DTSTART;TZID=US/Central:20130917T120000
DTEND;VALUE=DATE-TIME;TZID=US/Central:20130917T124500

DTSTAMP:20260422T091800Z
CREATED:20130913T043700Z
LAST-MODIFIED:20130913T043700Z
UID:20130917T120000-17395@law.utexas.edu
SUMMARY:Law Students for the Arts Kick-off
DESCRIPTION:<p>Join Law Students for the Arts for our first meeting of the year. We will be giving an overview of the year's events, as well as introducing ways to get involved on-campus and in the Austin community.</p>\n\nIf you need an accommodation to participate in this event, please contact the event sponsor or the Texas Law Special Events Office at specialevents@law.utexas.edu no later than seven business days prior to the event.
X-ALT-DESC;FMTTYPE=text/html:<p>Join Law Students for the Arts for our first meeting of the year. We will be giving an overview of the year's events, as well as introducing ways to get involved on-campus and in the Austin community.</p><p>If you need an accommodation to participate in this event, please contact the event
                                          event sponsor or the Texas Law Special Events Office at <a href="mailto:specialevents@law.utexas.edu">specialevents@law.utexas.edu</a> no later than seven business days prior to the event.</p>
CATEGORIES:Meeting
LOCATION:TNH 3.127 - Roberts Classroom
URL:http://law.utexas.edu/calendar/2013/09/17/17395/
CLASS:PUBLIC
STATUS:CONFIRMED
COMMENT:Jeff Pettit, pettitj@mac.com
END:VEVENT
END:VCALENDAR