BEGIN:VCALENDAR
VERSION:2.0
PRODID:-//UNIVERSITY OF TEXAS SCHOOL OF LAW//NONSGML Events Calendar v1.0//EN
X-WR-TIMEZONE:America/Chicago
BEGIN:VTIMEZONE
TZID:US/Central
X-LIC-LOCATION:America/Chicago
BEGIN:DAYLIGHT
TZOFFSETFROM:-0600
TZOFFSETTO:-0500
TZNAME:CDT
DTSTART:19700308T020000
RRULE:FREQ=YEARLY;BYMONTH=3;BYDAY=2SU
END:DAYLIGHT
BEGIN:STANDARD
TZOFFSETFROM:-0500
TZOFFSETTO:-0600
TZNAME:CST
DTSTART:19701101T020000
RRULE:FREQ=YEARLY;BYMONTH=11;BYDAY=1SU
END:STANDARD
END:VTIMEZONE
BEGIN:VEVENT
DTSTART;TZID=US/Central:20130919T121500
DTEND;VALUE=DATE-TIME;TZID=US/Central:20130919T134500

DTSTAMP:20260422T091600Z
CREATED:20130823T163700Z
LAST-MODIFIED:20130823T163700Z
UID:20130919T121500-17175@law.utexas.edu
SUMMARY:CIA Informational Session
DESCRIPTION:<p><a href="https://www.cia.gov/index.html">CIA</a> Representatives will provide information on the mission and structure of the Agency and job and internship opportunities. The application process will also be discussed. Presented by the <a href="http://www.utexas.edu/lbj/calendar/view_event.php?event_id=27794">LBJ School of Public Affairs</a>.</p>\n\nIf you need an accommodation to participate in this event, please contact the event sponsor or the Texas Law Special Events Office at specialevents@law.utexas.edu no later than seven business days prior to the event.
X-ALT-DESC;FMTTYPE=text/html:<p><a href="https://www.cia.gov/index.html">CIA</a> Representatives will provide information on the mission and structure of the Agency and job and internship opportunities. The application process will also be discussed. Presented by the <a href="http://www.utexas.edu/lbj/calendar/view_event.php?event_id=27794">LBJ School of Public Affairs</a>.</p><p>If you need an accommodation to participate in this event, please contact the event
                                          event sponsor or the Texas Law Special Events Office at <a href="mailto:specialevents@law.utexas.edu">specialevents@law.utexas.edu</a> no later than seven business days prior to the event.</p>
CATEGORIES:Panel Discussion / Speaker Series
LOCATION:SRH 3.122
URL:http://law.utexas.edu/calendar/2013/09/19/17175/
CLASS:PUBLIC
STATUS:CONFIRMED
COMMENT:Please contact Denyse Demel, Government Career Counselor, at 512-232-1162 or <a href="mailto:ddemel@law.utexas.edu">ddemel@law.utexas.edu</a>.
END:VEVENT
END:VCALENDAR