BEGIN:VCALENDAR
VERSION:2.0
PRODID:-//UNIVERSITY OF TEXAS SCHOOL OF LAW//NONSGML Events Calendar v1.0//EN
X-WR-TIMEZONE:America/Chicago
BEGIN:VTIMEZONE
TZID:US/Central
X-LIC-LOCATION:America/Chicago
BEGIN:DAYLIGHT
TZOFFSETFROM:-0600
TZOFFSETTO:-0500
TZNAME:CDT
DTSTART:19700308T020000
RRULE:FREQ=YEARLY;BYMONTH=3;BYDAY=2SU
END:DAYLIGHT
BEGIN:STANDARD
TZOFFSETFROM:-0500
TZOFFSETTO:-0600
TZNAME:CST
DTSTART:19701101T020000
RRULE:FREQ=YEARLY;BYMONTH=11;BYDAY=1SU
END:STANDARD
END:VTIMEZONE
BEGIN:VEVENT
DTSTART;TZID=US/Central:20130919T120000
DTEND;VALUE=DATE-TIME;TZID=US/Central:20130919T130000

DTSTAMP:20260422T044800Z
CREATED:20130823T203000Z
LAST-MODIFIED:20130918T195500Z
UID:20130919T120000-17177@law.utexas.edu
SUMMARY:Working In-House in the Energy Industry
DESCRIPTION:<p><a href="http://www.linkedin.com/title/senior-counsel/at-anadarko-petroleum">D. Marie Wagner is senior counsel international at Anadarko Petroleum Corporation</a>, one of the world’s largest publicly traded oil and gas exploration and production companies.  She previously practiced at Baker &amp; McKenzie and El Paso Energy.  Marie will offer insight on transitioning to in-house positions and the differences between working at a firm and a general counsel’s office.  Lunch will be served.RSVP by Wednesday, September 18, on <a title="UT Law Symplicity" href="https://law-utexas-csm.symplicity.com/students/">UT Law Symplicity</a> by selecting the "Events" tab.</p>
  <p>The Energy Center Distinguished Lecture Series brings energy and environmental law speakers to campus to speak with UT Law students and faculty. Sponsored by The Center for Global Energy, International Arbitration and Environmental Law; the Environmental Law Society; the Texas Journal of Oil, Gas and Energy Law; the UT Student Animal Legal Defense Fund; and the Career Services Office.  
  </p>\n\nIf you need an accommodation to participate in this event, please contact the event sponsor or the Texas Law Special Events Office at specialevents@law.utexas.edu no later than seven business days prior to the event.
X-ALT-DESC;FMTTYPE=text/html:<p><a href="http://www.linkedin.com/title/senior-counsel/at-anadarko-petroleum">D. Marie Wagner is senior counsel international at Anadarko Petroleum Corporation</a>, one of the world’s largest publicly traded oil and gas exploration and production companies.  She previously practiced at Baker &amp; McKenzie and El Paso Energy.  Marie will offer insight on transitioning to in-house positions and the differences between working at a firm and a general counsel’s office.  Lunch will be served.RSVP by Wednesday, September 18, on <a title="UT Law Symplicity" href="https://law-utexas-csm.symplicity.com/students/">UT Law Symplicity</a> by selecting the "Events" tab.</p>
  <p>The Energy Center Distinguished Lecture Series brings energy and environmental law speakers to campus to speak with UT Law students and faculty. Sponsored by The Center for Global Energy, International Arbitration and Environmental Law; the Environmental Law Society; the Texas Journal of Oil, Gas and Energy Law; the UT Student Animal Legal Defense Fund; and the Career Services Office.  
  </p><p>If you need an accommodation to participate in this event, please contact the event
                                          event sponsor or the Texas Law Special Events Office at <a href="mailto:specialevents@law.utexas.edu">specialevents@law.utexas.edu</a> no later than seven business days prior to the event.</p>
CATEGORIES:Lunch
LOCATION:TNH 3.125 - Denius Classroom
URL:http://law.utexas.edu/calendar/2013/09/19/17177/
CLASS:PUBLIC
STATUS:CONFIRMED
COMMENT:Please contact Gena Dawson at <a href="mailto:gdawson@law.utexas.edu">gdawson@law.utexas.edu.</a>
END:VEVENT
END:VCALENDAR