BEGIN:VCALENDAR
VERSION:2.0
PRODID:-//UNIVERSITY OF TEXAS SCHOOL OF LAW//NONSGML Events Calendar v1.0//EN
X-WR-TIMEZONE:America/Chicago
BEGIN:VTIMEZONE
TZID:US/Central
X-LIC-LOCATION:America/Chicago
BEGIN:DAYLIGHT
TZOFFSETFROM:-0600
TZOFFSETTO:-0500
TZNAME:CDT
DTSTART:19700308T020000
RRULE:FREQ=YEARLY;BYMONTH=3;BYDAY=2SU
END:DAYLIGHT
BEGIN:STANDARD
TZOFFSETFROM:-0500
TZOFFSETTO:-0600
TZNAME:CST
DTSTART:19701101T020000
RRULE:FREQ=YEARLY;BYMONTH=11;BYDAY=1SU
END:STANDARD
END:VTIMEZONE
BEGIN:VEVENT
DTSTART;TZID=US/Central:20130919T173000
DTEND;VALUE=DATE-TIME;TZID=US/Central:20130919T183000

DTSTAMP:20260422T061700Z
CREATED:20130830T164900Z
LAST-MODIFIED:20130830T164900Z
UID:20130919T173000-17253@law.utexas.edu
SUMMARY:DACA Services - Volunteer Training
DESCRIPTION:<p>Interested in volunteering with the Equal Justice Center's DACA Services? Attend this training!</p>
  <p>Student volunteers will assist petitioners in applying for the new Deferred Action for Childhood Arrivals (DACA). Law students will interview DACA petitioners (aka “DREAMers”) and fill out forms and compile documents to be filed with U.S. Citizenship and Immigration Services.</p>
  <p>Please RSVP to Andrew Hill (ahill@law.utexas.edu)</p>\n\nIf you need an accommodation to participate in this event, please contact the event sponsor or the Texas Law Special Events Office at specialevents@law.utexas.edu no later than seven business days prior to the event.
X-ALT-DESC;FMTTYPE=text/html:<p>Interested in volunteering with the Equal Justice Center's DACA Services? Attend this training!</p>
  <p>Student volunteers will assist petitioners in applying for the new Deferred Action for Childhood Arrivals (DACA). Law students will interview DACA petitioners (aka “DREAMers”) and fill out forms and compile documents to be filed with U.S. Citizenship and Immigration Services.</p>
  <p>Please RSVP to Andrew Hill (ahill@law.utexas.edu)</p><p>If you need an accommodation to participate in this event, please contact the event
                                          event sponsor or the Texas Law Special Events Office at <a href="mailto:specialevents@law.utexas.edu">specialevents@law.utexas.edu</a> no later than seven business days prior to the event.</p>
CATEGORIES:Other

URL:http://law.utexas.edu/calendar/2013/09/19/17253/
CLASS:PUBLIC
STATUS:CONFIRMED

END:VEVENT
END:VCALENDAR