BEGIN:VCALENDAR
VERSION:2.0
PRODID:-//UNIVERSITY OF TEXAS SCHOOL OF LAW//NONSGML Events Calendar v1.0//EN
X-WR-TIMEZONE:America/Chicago
BEGIN:VTIMEZONE
TZID:US/Central
X-LIC-LOCATION:America/Chicago
BEGIN:DAYLIGHT
TZOFFSETFROM:-0600
TZOFFSETTO:-0500
TZNAME:CDT
DTSTART:19700308T020000
RRULE:FREQ=YEARLY;BYMONTH=3;BYDAY=2SU
END:DAYLIGHT
BEGIN:STANDARD
TZOFFSETFROM:-0500
TZOFFSETTO:-0600
TZNAME:CST
DTSTART:19701101T020000
RRULE:FREQ=YEARLY;BYMONTH=11;BYDAY=1SU
END:STANDARD
END:VTIMEZONE
BEGIN:VEVENT
DTSTART;TZID=US/Central:20130920T114500
DTEND;VALUE=DATE-TIME;TZID=US/Central:20130920T131500

DTSTAMP:20260422T044800Z
CREATED:20130903T193700Z
LAST-MODIFIED:20130920T130000Z
UID:20130920T114500-17288@law.utexas.edu
SUMMARY:Change It Up Brown Bag Series
DESCRIPTION:<p>Please join UT Law Professors Susan Klein, Jennifer Laurin, Scott McCown, and Lucy Wood as they discuss their involvement in social change efforts across nonprofit, government, and private sectors. Lunch will be provided. Please RSVP by 3:00 p.m. on Thursday, September 19 to Kali Cohn at <a href="mailto:kali.cohn@gmail.com">kali.cohn@gmail.com</a>.</p>
  <p>Co-sponsored by the William Wayne Justice Center for Public Interest Law and the Career Services Office.</p>
  <p>And supported by the Abuse Survivors Assistance Program, American Constitution Society, Austin Lawyers Guild, Board of Advocates, Chicano/Hispanic Law Association, Environmental Law Society, Health Law &amp; Bioethics Society, Human Rights Law Society, Law Students for Reproductive Justice, OUTLaw, Public Interest Law Association, Student Animal Legal Defense Fund, Street Law, Texas Hispanic Journal of Law and Policy, Texas Journal on Civil Liberties &amp; Civil Rights, Texas Law Fellowships, Thurgood Marshall Legal Society, and Youth Court.</p>\n\nIf you need an accommodation to participate in this event, please contact the event sponsor or the Texas Law Special Events Office at specialevents@law.utexas.edu no later than seven business days prior to the event.
X-ALT-DESC;FMTTYPE=text/html:<p>Please join UT Law Professors Susan Klein, Jennifer Laurin, Scott McCown, and Lucy Wood as they discuss their involvement in social change efforts across nonprofit, government, and private sectors. Lunch will be provided. Please RSVP by 3:00 p.m. on Thursday, September 19 to Kali Cohn at <a href="mailto:kali.cohn@gmail.com">kali.cohn@gmail.com</a>.</p>
  <p>Co-sponsored by the William Wayne Justice Center for Public Interest Law and the Career Services Office.</p>
  <p>And supported by the Abuse Survivors Assistance Program, American Constitution Society, Austin Lawyers Guild, Board of Advocates, Chicano/Hispanic Law Association, Environmental Law Society, Health Law &amp; Bioethics Society, Human Rights Law Society, Law Students for Reproductive Justice, OUTLaw, Public Interest Law Association, Student Animal Legal Defense Fund, Street Law, Texas Hispanic Journal of Law and Policy, Texas Journal on Civil Liberties &amp; Civil Rights, Texas Law Fellowships, Thurgood Marshall Legal Society, and Youth Court.</p><p>If you need an accommodation to participate in this event, please contact the event
                                          event sponsor or the Texas Law Special Events Office at <a href="mailto:specialevents@law.utexas.edu">specialevents@law.utexas.edu</a> no later than seven business days prior to the event.</p>
CATEGORIES:Panel Discussion / Speaker Series
LOCATION:TNH 3.127 - Roberts Classroom
URL:http://law.utexas.edu/calendar/2013/09/20/17288/
CLASS:PUBLIC
STATUS:CONFIRMED
COMMENT:Please contact Kali Cohn at  <a href="mailto:kali.cohn@gmail.com">kali.cohn@gmail.com</a>.
END:VEVENT
END:VCALENDAR