BEGIN:VCALENDAR
VERSION:2.0
PRODID:-//UNIVERSITY OF TEXAS SCHOOL OF LAW//NONSGML Events Calendar v1.0//EN
X-WR-TIMEZONE:America/Chicago
BEGIN:VTIMEZONE
TZID:US/Central
X-LIC-LOCATION:America/Chicago
BEGIN:DAYLIGHT
TZOFFSETFROM:-0600
TZOFFSETTO:-0500
TZNAME:CDT
DTSTART:19700308T020000
RRULE:FREQ=YEARLY;BYMONTH=3;BYDAY=2SU
END:DAYLIGHT
BEGIN:STANDARD
TZOFFSETFROM:-0500
TZOFFSETTO:-0600
TZNAME:CST
DTSTART:19701101T020000
RRULE:FREQ=YEARLY;BYMONTH=11;BYDAY=1SU
END:STANDARD
END:VTIMEZONE
BEGIN:VEVENT
DTSTART;TZID=US/Central:20130920T113000
DTEND;VALUE=DATE-TIME;TZID=US/Central:20130920T130000

DTSTAMP:20260422T075000Z
CREATED:20130917T184800Z
LAST-MODIFIED:20130917T184900Z
UID:20130920T113000-17429@law.utexas.edu
SUMMARY:Portfolio Brown Bag Lunch
DESCRIPTION:<p>Informational Session, including short presentation by Steering Committee Member and Faculty Advisor, John Borcherding, Department of Civil, Architectural and Environmental Engineering, Cockrell School of Engineering.  For this first meeting:  pizza will be served.
  Bring your friends who might be interested in ADR!
  The Graduate Portfolio Program in Dispute Resolution offers an interdisciplinary approach to the teaching and study of dispute resolution. For more information, visit the website at www.utexas.edu/law/centers/cppdr/and click on the Portfolio tab or contact the Center for Public Policy Dispute Resolution at 512-471-3507 or cppdr@law.utexas.edu.</p>\n\nIf you need an accommodation to participate in this event, please contact the event sponsor or the Texas Law Special Events Office at specialevents@law.utexas.edu no later than seven business days prior to the event.
X-ALT-DESC;FMTTYPE=text/html:<p>Informational Session, including short presentation by Steering Committee Member and Faculty Advisor, John Borcherding, Department of Civil, Architectural and Environmental Engineering, Cockrell School of Engineering.  For this first meeting:  pizza will be served.
  Bring your friends who might be interested in ADR!
  The Graduate Portfolio Program in Dispute Resolution offers an interdisciplinary approach to the teaching and study of dispute resolution. For more information, visit the website at www.utexas.edu/law/centers/cppdr/and click on the Portfolio tab or contact the Center for Public Policy Dispute Resolution at 512-471-3507 or cppdr@law.utexas.edu.</p><p>If you need an accommodation to participate in this event, please contact the event
                                          event sponsor or the Texas Law Special Events Office at <a href="mailto:specialevents@law.utexas.edu">specialevents@law.utexas.edu</a> no later than seven business days prior to the event.</p>

LOCATION:
URL:http://law.utexas.edu/calendar/2013/09/20/17429/
CLASS:PUBLIC
STATUS:CONFIRMED

END:VEVENT
END:VCALENDAR