BEGIN:VCALENDAR
VERSION:2.0
PRODID:-//UNIVERSITY OF TEXAS SCHOOL OF LAW//NONSGML Events Calendar v1.0//EN
X-WR-TIMEZONE:America/Chicago
BEGIN:VTIMEZONE
TZID:US/Central
X-LIC-LOCATION:America/Chicago
BEGIN:DAYLIGHT
TZOFFSETFROM:-0600
TZOFFSETTO:-0500
TZNAME:CDT
DTSTART:19700308T020000
RRULE:FREQ=YEARLY;BYMONTH=3;BYDAY=2SU
END:DAYLIGHT
BEGIN:STANDARD
TZOFFSETFROM:-0500
TZOFFSETTO:-0600
TZNAME:CST
DTSTART:19701101T020000
RRULE:FREQ=YEARLY;BYMONTH=11;BYDAY=1SU
END:STANDARD
END:VTIMEZONE
BEGIN:VEVENT
DTSTART;TZID=US/Central:20130930


DTSTAMP:20260422T044600Z
CREATED:20130929T183700Z
LAST-MODIFIED:20130929T183700Z
UID:20130930T000000-17532@law.utexas.edu
SUMMARY:ASAP_Info Booth
DESCRIPTION:<p>October is Domestic Violence Awareness month, and the Abuse Survivors Assistance Program will be tabling in the Atrium from Sept. 30th to Oct. 2nd with pamphlets and general information about domestic violence in this country. Come by and visit with us!</p>\n\nIf you need an accommodation to participate in this event, please contact the event sponsor or the Texas Law Special Events Office at specialevents@law.utexas.edu no later than seven business days prior to the event.
X-ALT-DESC;FMTTYPE=text/html:<p>October is Domestic Violence Awareness month, and the Abuse Survivors Assistance Program will be tabling in the Atrium from Sept. 30th to Oct. 2nd with pamphlets and general information about domestic violence in this country. Come by and visit with us!</p><p>If you need an accommodation to participate in this event, please contact the event
                                          event sponsor or the Texas Law Special Events Office at <a href="mailto:specialevents@law.utexas.edu">specialevents@law.utexas.edu</a> no later than seven business days prior to the event.</p>

LOCATION:TNH 2.100 - Susman Godfrey Atrium
URL:http://law.utexas.edu/calendar/2013/09/30/17532/
CLASS:PUBLIC
STATUS:CONFIRMED

END:VEVENT
END:VCALENDAR