BEGIN:VCALENDAR
VERSION:2.0
PRODID:-//UNIVERSITY OF TEXAS SCHOOL OF LAW//NONSGML Events Calendar v1.0//EN
X-WR-TIMEZONE:America/Chicago
BEGIN:VTIMEZONE
TZID:US/Central
X-LIC-LOCATION:America/Chicago
BEGIN:DAYLIGHT
TZOFFSETFROM:-0600
TZOFFSETTO:-0500
TZNAME:CDT
DTSTART:19700308T020000
RRULE:FREQ=YEARLY;BYMONTH=3;BYDAY=2SU
END:DAYLIGHT
BEGIN:STANDARD
TZOFFSETFROM:-0500
TZOFFSETTO:-0600
TZNAME:CST
DTSTART:19701101T020000
RRULE:FREQ=YEARLY;BYMONTH=11;BYDAY=1SU
END:STANDARD
END:VTIMEZONE
BEGIN:VEVENT
DTSTART;TZID=US/Central:20131001T113000
DTEND;VALUE=DATE-TIME;TZID=US/Central:20131001T133000

DTSTAMP:20260422T031300Z
CREATED:20130913T000300Z
LAST-MODIFIED:20130913T000300Z
UID:20131001T113000-17393@law.utexas.edu
SUMMARY:UT Law Alumnae @ SCOTUS
DESCRIPTION:<p>Come hear what it's like to argue and win a case in front of the Supreme Court of the United States from two of UT Law’s own:  <a href="http://scottdoug.com/lawyers/jane-webre">Jane Webre</a>, '89, counsel of record in <em>Gunn v. Minton, </em>and <a href="http://www.scottdoug.com/lawyers/cindy-connolly">Cindy Connolly</a>, '96, co-counsel. Jane and Cindy will discuss their experiences of taking a case from state jurisdiction to the national stage, including the pressures and highlights associated with arguing and ultimately winning a case heard by SCOTUS.</p>
  <p>Jane and Cindy brought<em> Gunn v. Minton</em> to the Supreme Court of the United States requesting that a decision by the Supreme Court of Texas be reversed. The state court held that a group of legal malpractice claims, involving an underlying patent matter, fell exclusively within federal jurisdiction. Jane and Cindy were successful, and the Supreme Court of the United States decided that the claims would go forward in state court. Read the full SCOTUS opinion <a href="http://www.scottdoug.com/content/GUNN_ET_AL._v._MINTON.pdf">here</a>.</p>\n\nIf you need an accommodation to participate in this event, please contact the event sponsor or the Texas Law Special Events Office at specialevents@law.utexas.edu no later than seven business days prior to the event.
X-ALT-DESC;FMTTYPE=text/html:<p>Come hear what it's like to argue and win a case in front of the Supreme Court of the United States from two of UT Law’s own:  <a href="http://scottdoug.com/lawyers/jane-webre">Jane Webre</a>, '89, counsel of record in <em>Gunn v. Minton, </em>and <a href="http://www.scottdoug.com/lawyers/cindy-connolly">Cindy Connolly</a>, '96, co-counsel. Jane and Cindy will discuss their experiences of taking a case from state jurisdiction to the national stage, including the pressures and highlights associated with arguing and ultimately winning a case heard by SCOTUS.</p>
  <p>Jane and Cindy brought<em> Gunn v. Minton</em> to the Supreme Court of the United States requesting that a decision by the Supreme Court of Texas be reversed. The state court held that a group of legal malpractice claims, involving an underlying patent matter, fell exclusively within federal jurisdiction. Jane and Cindy were successful, and the Supreme Court of the United States decided that the claims would go forward in state court. Read the full SCOTUS opinion <a href="http://www.scottdoug.com/content/GUNN_ET_AL._v._MINTON.pdf">here</a>.</p><p>If you need an accommodation to participate in this event, please contact the event
                                          event sponsor or the Texas Law Special Events Office at <a href="mailto:specialevents@law.utexas.edu">specialevents@law.utexas.edu</a> no later than seven business days prior to the event.</p>
CATEGORIES:Lunch
LOCATION:TNH 2.111 - Sheffield-Massey Room
URL:http://law.utexas.edu/calendar/2013/10/01/17393/
CLASS:PUBLIC
STATUS:CONFIRMED
COMMENT:RSVP by 9/26 to Melissa at mgalusky@law.utexas.edu or (512) 232-1911
END:VEVENT
END:VCALENDAR