BEGIN:VCALENDAR
VERSION:2.0
PRODID:-//UNIVERSITY OF TEXAS SCHOOL OF LAW//NONSGML Events Calendar v1.0//EN
X-WR-TIMEZONE:America/Chicago
BEGIN:VTIMEZONE
TZID:US/Central
X-LIC-LOCATION:America/Chicago
BEGIN:DAYLIGHT
TZOFFSETFROM:-0600
TZOFFSETTO:-0500
TZNAME:CDT
DTSTART:19700308T020000
RRULE:FREQ=YEARLY;BYMONTH=3;BYDAY=2SU
END:DAYLIGHT
BEGIN:STANDARD
TZOFFSETFROM:-0500
TZOFFSETTO:-0600
TZNAME:CST
DTSTART:19701101T020000
RRULE:FREQ=YEARLY;BYMONTH=11;BYDAY=1SU
END:STANDARD
END:VTIMEZONE
BEGIN:VEVENT
DTSTART;TZID=US/Central:20131002T111500
DTEND;VALUE=DATE-TIME;TZID=US/Central:20131002T123000

DTSTAMP:20260422T045000Z
CREATED:20130912T154700Z
LAST-MODIFIED:20131219T191300Z
UID:20131002T111500-17386@law.utexas.edu
SUMMARY:CCJ Open House
DESCRIPTION:<p>Clinical faculty, staff and students will be on hand to informally discuss the clinics and internships offered at UT Law in the Spring and Summer of 2014. Pizza and drinks will be provided. All students are invited. </p>\n\nIf you need an accommodation to participate in this event, please contact the event sponsor or the Texas Law Special Events Office at specialevents@law.utexas.edu no later than seven business days prior to the event.
X-ALT-DESC;FMTTYPE=text/html:<p>Clinical faculty, staff and students will be on hand to informally discuss the clinics and internships offered at UT Law in the Spring and Summer of 2014. Pizza and drinks will be provided. All students are invited. </p><p>If you need an accommodation to participate in this event, please contact the event
                                          event sponsor or the Texas Law Special Events Office at <a href="mailto:specialevents@law.utexas.edu">specialevents@law.utexas.edu</a> no later than seven business days prior to the event.</p>
CATEGORIES:Other
LOCATION:1st and 4th floors of CCJ
URL:http://law.utexas.edu/calendar/2013/10/02/17386/
CLASS:PUBLIC
STATUS:CONFIRMED

END:VEVENT
END:VCALENDAR