BEGIN:VCALENDAR
VERSION:2.0
PRODID:-//UNIVERSITY OF TEXAS SCHOOL OF LAW//NONSGML Events Calendar v1.0//EN
X-WR-TIMEZONE:America/Chicago
BEGIN:VTIMEZONE
TZID:US/Central
X-LIC-LOCATION:America/Chicago
BEGIN:DAYLIGHT
TZOFFSETFROM:-0600
TZOFFSETTO:-0500
TZNAME:CDT
DTSTART:19700308T020000
RRULE:FREQ=YEARLY;BYMONTH=3;BYDAY=2SU
END:DAYLIGHT
BEGIN:STANDARD
TZOFFSETFROM:-0500
TZOFFSETTO:-0600
TZNAME:CST
DTSTART:19701101T020000
RRULE:FREQ=YEARLY;BYMONTH=11;BYDAY=1SU
END:STANDARD
END:VTIMEZONE
BEGIN:VEVENT
DTSTART;TZID=US/Central:20131003T160000
DTEND;VALUE=DATE-TIME;TZID=US/Central:20131003T170000

DTSTAMP:20260422T072800Z
CREATED:20130910T005600Z
LAST-MODIFIED:20130918T143300Z
UID:20131003T160000-17350@law.utexas.edu
SUMMARY:ELS Presents: Pro Tips for Lawyers
DESCRIPTION:<p>The Environmental Law Society presents: Pro Tips for New Associates &amp; Ethical Considerations for All Attorneys &amp; Future Lawyers
   
  </p><p>
  Please note NEW LOCATION for Happy Hour at Double Dave's!</p>
  <p>Speakers: Tim Wilkins, Vic Ramirez, Katie Bennett, and Martha Landwehr</p>
  <p>Tim Wilkins, head of Bracewell &amp; Giuliani’s firm-wide Environmental and Natural Resources practice group, and Vic Ramirez, associate general counsel at the Lower Colorado River Authority, will speak on ethics issues, which may include: professionalism, communications with clients/opposing counsel, confidentiality of information, candor towards the tribunal, and revolving door issues. Katie Bennett, associate at Katten Muchen Rosenman LLP, and Martha Landwehr, general counsel for the Texas Chemical Council, will give practice pointers to new and future attorneys, including tips for communicating with partners and clients, preparing useful work product, navigating law firm/government politics, and interfacing with staff and co-counsel. This is a great opportunity for students to meet environmental lawyers in the Austin area!
   
  </p>
  <p>Time and Date: Thursday, October 3, at 4:00–5:00 pm followed by Happy Hour at Double Dave's (3000 Duval). 
   
  </p>
  <p>Location: Sheffield Room, TNH 2.111
            
  </p>
  <p>CLE: 1 hour participatory and 0.5 hour ethics applied for
  Happy Hour following the meeting at Double Dave's (3000 Duval). 
   
  </p>
  <p>Cost: FREE for all, including sponsored happy hour
   
  </p>
  <p>RSVP to Phillip Goodwin
  Phillip.goodwin@tceq.texas.gov by September 30, 2013
   
  </p>
  <p>For more information call: Phillip Goodwin (512) 239-0675</p>\n\nIf you need an accommodation to participate in this event, please contact the event sponsor or the Texas Law Special Events Office at specialevents@law.utexas.edu no later than seven business days prior to the event.
X-ALT-DESC;FMTTYPE=text/html:<p>The Environmental Law Society presents: Pro Tips for New Associates &amp; Ethical Considerations for All Attorneys &amp; Future Lawyers
   
  </p><p>
  Please note NEW LOCATION for Happy Hour at Double Dave's!</p>
  <p>Speakers: Tim Wilkins, Vic Ramirez, Katie Bennett, and Martha Landwehr</p>
  <p>Tim Wilkins, head of Bracewell &amp; Giuliani’s firm-wide Environmental and Natural Resources practice group, and Vic Ramirez, associate general counsel at the Lower Colorado River Authority, will speak on ethics issues, which may include: professionalism, communications with clients/opposing counsel, confidentiality of information, candor towards the tribunal, and revolving door issues. Katie Bennett, associate at Katten Muchen Rosenman LLP, and Martha Landwehr, general counsel for the Texas Chemical Council, will give practice pointers to new and future attorneys, including tips for communicating with partners and clients, preparing useful work product, navigating law firm/government politics, and interfacing with staff and co-counsel. This is a great opportunity for students to meet environmental lawyers in the Austin area!
   
  </p>
  <p>Time and Date: Thursday, October 3, at 4:00–5:00 pm followed by Happy Hour at Double Dave's (3000 Duval). 
   
  </p>
  <p>Location: Sheffield Room, TNH 2.111
            
  </p>
  <p>CLE: 1 hour participatory and 0.5 hour ethics applied for
  Happy Hour following the meeting at Double Dave's (3000 Duval). 
   
  </p>
  <p>Cost: FREE for all, including sponsored happy hour
   
  </p>
  <p>RSVP to Phillip Goodwin
  Phillip.goodwin@tceq.texas.gov by September 30, 2013
   
  </p>
  <p>For more information call: Phillip Goodwin (512) 239-0675</p><p>If you need an accommodation to participate in this event, please contact the event
                                          event sponsor or the Texas Law Special Events Office at <a href="mailto:specialevents@law.utexas.edu">specialevents@law.utexas.edu</a> no later than seven business days prior to the event.</p>
CATEGORIES:Panel Discussion / Speaker Series
LOCATION:TNH 2.111 - Sheffield-Massey Room
URL:http://law.utexas.edu/calendar/2013/10/03/17350/
CLASS:PUBLIC
STATUS:CONFIRMED
COMMENT:els.texas.law@gmail.com
END:VEVENT
END:VCALENDAR