BEGIN:VCALENDAR
VERSION:2.0
PRODID:-//UNIVERSITY OF TEXAS SCHOOL OF LAW//NONSGML Events Calendar v1.0//EN
X-WR-TIMEZONE:America/Chicago
BEGIN:VTIMEZONE
TZID:US/Central
X-LIC-LOCATION:America/Chicago
BEGIN:DAYLIGHT
TZOFFSETFROM:-0600
TZOFFSETTO:-0500
TZNAME:CDT
DTSTART:19700308T020000
RRULE:FREQ=YEARLY;BYMONTH=3;BYDAY=2SU
END:DAYLIGHT
BEGIN:STANDARD
TZOFFSETFROM:-0500
TZOFFSETTO:-0600
TZNAME:CST
DTSTART:19701101T020000
RRULE:FREQ=YEARLY;BYMONTH=11;BYDAY=1SU
END:STANDARD
END:VTIMEZONE
BEGIN:VEVENT
DTSTART;TZID=US/Central:20131003T130000
DTEND;VALUE=DATE-TIME;TZID=US/Central:20131003T140000

DTSTAMP:20260422T044700Z
CREATED:20130930T132600Z
LAST-MODIFIED:20130930T132600Z
UID:20131003T130000-17535@law.utexas.edu
SUMMARY:Syrian Refugee Crisis Panel
DESCRIPTION:<p>There are currently more than 1.4 million Syrian refugees and 4.5 million internally displaced persons. Many of these refugees live in abject squalor in camps far from their homes. Join us to learn more about the situation and the roles humanitarian, human rights, and immigration law have played in shaping it. Our speakers will include Professor Denise Gilman, former Director of the Immigrant and Refugee Rights Project at the Washington Lawyers' Committee for Civil Rights and Urban Affairs and Director of the Immigration Clinic; Professor Michael Churgin, an expert on immigration law; and Alex McLelland, a graduate student focusing on Syria at the UT Middle Eastern Studies Program. Light refreshments will be served.</p>\n\nIf you need an accommodation to participate in this event, please contact the event sponsor or the Texas Law Special Events Office at specialevents@law.utexas.edu no later than seven business days prior to the event.
X-ALT-DESC;FMTTYPE=text/html:<p>There are currently more than 1.4 million Syrian refugees and 4.5 million internally displaced persons. Many of these refugees live in abject squalor in camps far from their homes. Join us to learn more about the situation and the roles humanitarian, human rights, and immigration law have played in shaping it. Our speakers will include Professor Denise Gilman, former Director of the Immigrant and Refugee Rights Project at the Washington Lawyers' Committee for Civil Rights and Urban Affairs and Director of the Immigration Clinic; Professor Michael Churgin, an expert on immigration law; and Alex McLelland, a graduate student focusing on Syria at the UT Middle Eastern Studies Program. Light refreshments will be served.</p><p>If you need an accommodation to participate in this event, please contact the event
                                          event sponsor or the Texas Law Special Events Office at <a href="mailto:specialevents@law.utexas.edu">specialevents@law.utexas.edu</a> no later than seven business days prior to the event.</p>
CATEGORIES:Panel Discussion / Speaker Series
LOCATION:TNH 2.140 - Wright Classroom
URL:http://law.utexas.edu/calendar/2013/10/03/17535/
CLASS:PUBLIC
STATUS:CONFIRMED

END:VEVENT
END:VCALENDAR