BEGIN:VCALENDAR
VERSION:2.0
PRODID:-//UNIVERSITY OF TEXAS SCHOOL OF LAW//NONSGML Events Calendar v1.0//EN
X-WR-TIMEZONE:America/Chicago
BEGIN:VTIMEZONE
TZID:US/Central
X-LIC-LOCATION:America/Chicago
BEGIN:DAYLIGHT
TZOFFSETFROM:-0600
TZOFFSETTO:-0500
TZNAME:CDT
DTSTART:19700308T020000
RRULE:FREQ=YEARLY;BYMONTH=3;BYDAY=2SU
END:DAYLIGHT
BEGIN:STANDARD
TZOFFSETFROM:-0500
TZOFFSETTO:-0600
TZNAME:CST
DTSTART:19701101T020000
RRULE:FREQ=YEARLY;BYMONTH=11;BYDAY=1SU
END:STANDARD
END:VTIMEZONE
BEGIN:VEVENT
DTSTART;TZID=US/Central:20131004T114500
DTEND;VALUE=DATE-TIME;TZID=US/Central:20131004T124500

DTSTAMP:20260422T045000Z
CREATED:20130709T194500Z
LAST-MODIFIED:20130823T165200Z
UID:20131004T114500-16920@law.utexas.edu
SUMMARY:LL.M. Job Search Workshop
DESCRIPTION:<p>Learn how to conduct a U.S. and international job search. We’ll also be discussing the <a href="http://www.law.nyu.edu/isip/"> International Student Interview Program at New York University</a> and the <a href="http://www.law.ucla.edu/career-services/current-students/llm-students/Pages/west-coast-international-llm-job-fair.aspx">West Coast International LL.M. job fairs</a>. If you are interested in participating in either of these job fairs you will need to register early and should make every effort to attend this program. Lunch will be served. RSVP by Thursday, October 3, on <a title="UT Law Symplicity" href="https://law-utexas-csm.symplicity.com/students/">UT Law Symplicity</a> by selecting the "Events" tab.</p>\n\nIf you need an accommodation to participate in this event, please contact the event sponsor or the Texas Law Special Events Office at specialevents@law.utexas.edu no later than seven business days prior to the event.
X-ALT-DESC;FMTTYPE=text/html:<p>Learn how to conduct a U.S. and international job search. We’ll also be discussing the <a href="http://www.law.nyu.edu/isip/"> International Student Interview Program at New York University</a> and the <a href="http://www.law.ucla.edu/career-services/current-students/llm-students/Pages/west-coast-international-llm-job-fair.aspx">West Coast International LL.M. job fairs</a>. If you are interested in participating in either of these job fairs you will need to register early and should make every effort to attend this program. Lunch will be served. RSVP by Thursday, October 3, on <a title="UT Law Symplicity" href="https://law-utexas-csm.symplicity.com/students/">UT Law Symplicity</a> by selecting the "Events" tab.</p><p>If you need an accommodation to participate in this event, please contact the event
                                          event sponsor or the Texas Law Special Events Office at <a href="mailto:specialevents@law.utexas.edu">specialevents@law.utexas.edu</a> no later than seven business days prior to the event.</p>
CATEGORIES:Workshop / Training Program
LOCATION:TNH 3.125 - Denius Classroom
URL:http://law.utexas.edu/calendar/2013/10/04/16920/
CLASS:PUBLIC
STATUS:CONFIRMED
COMMENT:Please contact Natalie Aitken, Career Counselor, at 512-232-1162 or <a href="mailto:naitken@law.utexas.edu">naitken@law.utexas.edu</a>.
END:VEVENT
END:VCALENDAR