BEGIN:VCALENDAR
VERSION:2.0
PRODID:-//UNIVERSITY OF TEXAS SCHOOL OF LAW//NONSGML Events Calendar v1.0//EN
X-WR-TIMEZONE:America/Chicago
BEGIN:VTIMEZONE
TZID:US/Central
X-LIC-LOCATION:America/Chicago
BEGIN:DAYLIGHT
TZOFFSETFROM:-0600
TZOFFSETTO:-0500
TZNAME:CDT
DTSTART:19700308T020000
RRULE:FREQ=YEARLY;BYMONTH=3;BYDAY=2SU
END:DAYLIGHT
BEGIN:STANDARD
TZOFFSETFROM:-0500
TZOFFSETTO:-0600
TZNAME:CST
DTSTART:19701101T020000
RRULE:FREQ=YEARLY;BYMONTH=11;BYDAY=1SU
END:STANDARD
END:VTIMEZONE
BEGIN:VEVENT
DTSTART;TZID=US/Central:20131007T130000
DTEND;VALUE=DATE-TIME;TZID=US/Central:20131007T141500

DTSTAMP:20260422T044400Z
CREATED:20130923T154900Z
LAST-MODIFIED:20131004T120500Z
UID:20131007T130000-17484@law.utexas.edu
SUMMARY:Being a Public Defender
DESCRIPTION:<p>(Program is at 1:10-2:10 p.m.) Learn about careers in indigent defense from UT Law alumni serving as public defenders. Panelists will discuss their careers and offer advice on how to land a job as a public defender. Panelists include Genesis Draper ’06, Assistant Federal Public Defender, <a href="http://www.fpdsdot.org/en/">Office of the Federal Public Defender for the Southern District of Texas (Houston)</a> and formerly the Assistant Public Defender, Office of the Metropolitan Public Defender (Nashville, TN), and Aron Israelite ’09, Trial Attorney, <a href="http://www.fdsdi.com/">Federal Defenders of San Diego Inc</a>. Moderated by Nicole Simmons, Director of Public Service Programs, Career Services Office.</p>
  <p>Refreshments will be served. RSVP by Friday, October 4, on <a title="UT Law Symplicity" href="https://law-utexas-csm.symplicity.com/students/">UT Law Symplicity</a> by selecting the 'Events' tab. Sponsored by the Career Services Office, the William Wayne Justice Center for Public Interest Law, and the Capital Punishment Center.</p>\n\nIf you need an accommodation to participate in this event, please contact the event sponsor or the Texas Law Special Events Office at specialevents@law.utexas.edu no later than seven business days prior to the event.
X-ALT-DESC;FMTTYPE=text/html:<p>(Program is at 1:10-2:10 p.m.) Learn about careers in indigent defense from UT Law alumni serving as public defenders. Panelists will discuss their careers and offer advice on how to land a job as a public defender. Panelists include Genesis Draper ’06, Assistant Federal Public Defender, <a href="http://www.fpdsdot.org/en/">Office of the Federal Public Defender for the Southern District of Texas (Houston)</a> and formerly the Assistant Public Defender, Office of the Metropolitan Public Defender (Nashville, TN), and Aron Israelite ’09, Trial Attorney, <a href="http://www.fdsdi.com/">Federal Defenders of San Diego Inc</a>. Moderated by Nicole Simmons, Director of Public Service Programs, Career Services Office.</p>
  <p>Refreshments will be served. RSVP by Friday, October 4, on <a title="UT Law Symplicity" href="https://law-utexas-csm.symplicity.com/students/">UT Law Symplicity</a> by selecting the 'Events' tab. Sponsored by the Career Services Office, the William Wayne Justice Center for Public Interest Law, and the Capital Punishment Center.</p><p>If you need an accommodation to participate in this event, please contact the event
                                          event sponsor or the Texas Law Special Events Office at <a href="mailto:specialevents@law.utexas.edu">specialevents@law.utexas.edu</a> no later than seven business days prior to the event.</p>
CATEGORIES:Panel Discussion / Speaker Series
LOCATION:CCJ 2.306 - Eidman Courtroom
URL:http://law.utexas.edu/calendar/2013/10/07/17484/
CLASS:PUBLIC
STATUS:CONFIRMED
COMMENT:Please contact Nicole Simmons, Director of Public Service Programs, at 512-232-1160 or nsimmons@law.utexas.edu.
END:VEVENT
END:VCALENDAR