BEGIN:VCALENDAR
VERSION:2.0
PRODID:-//UNIVERSITY OF TEXAS SCHOOL OF LAW//NONSGML Events Calendar v1.0//EN
X-WR-TIMEZONE:America/Chicago
BEGIN:VTIMEZONE
TZID:US/Central
X-LIC-LOCATION:America/Chicago
BEGIN:DAYLIGHT
TZOFFSETFROM:-0600
TZOFFSETTO:-0500
TZNAME:CDT
DTSTART:19700308T020000
RRULE:FREQ=YEARLY;BYMONTH=3;BYDAY=2SU
END:DAYLIGHT
BEGIN:STANDARD
TZOFFSETFROM:-0500
TZOFFSETTO:-0600
TZNAME:CST
DTSTART:19701101T020000
RRULE:FREQ=YEARLY;BYMONTH=11;BYDAY=1SU
END:STANDARD
END:VTIMEZONE
BEGIN:VEVENT
DTSTART;TZID=US/Central:20131008T120000
DTEND;VALUE=DATE-TIME;TZID=US/Central:20131008T130000

DTSTAMP:20260422T044300Z
CREATED:20130620T185700Z
LAST-MODIFIED:20130913T153700Z
UID:20131008T120000-16862@law.utexas.edu
SUMMARY:Intro to Public Service Debt Management
DESCRIPTION:<p>Learn strategies to manage your educational debt, including the UT Law and federal loan repayment and forgiveness programs for lawyers pursuing jobs in the government and public interest sectors. Presented by Mary Crouter, Assistant Director of the William Wayne Justice Center for Public Interest Law, and Nicole Simmons, Director of Public Service Programs with the Career Services Office. Refreshments will be served. RSVP by Monday, October 7, on <a title="UT Law Symplicity" href="https://law-utexas-csm.symplicity.com/students/">UT Law Symplicity</a> by selecting the "Events" tab.</p>\n\nIf you need an accommodation to participate in this event, please contact the event sponsor or the Texas Law Special Events Office at specialevents@law.utexas.edu no later than seven business days prior to the event.
X-ALT-DESC;FMTTYPE=text/html:<p>Learn strategies to manage your educational debt, including the UT Law and federal loan repayment and forgiveness programs for lawyers pursuing jobs in the government and public interest sectors. Presented by Mary Crouter, Assistant Director of the William Wayne Justice Center for Public Interest Law, and Nicole Simmons, Director of Public Service Programs with the Career Services Office. Refreshments will be served. RSVP by Monday, October 7, on <a title="UT Law Symplicity" href="https://law-utexas-csm.symplicity.com/students/">UT Law Symplicity</a> by selecting the "Events" tab.</p><p>If you need an accommodation to participate in this event, please contact the event
                                          event sponsor or the Texas Law Special Events Office at <a href="mailto:specialevents@law.utexas.edu">specialevents@law.utexas.edu</a> no later than seven business days prior to the event.</p>
CATEGORIES:Workshop / Training Program
LOCATION:CCJ 2.306 - Eidman Courtroom
URL:http://law.utexas.edu/calendar/2013/10/08/16862/
CLASS:PUBLIC
STATUS:CONFIRMED
COMMENT:Please contact Nicole Simmons, Director of Public Service Programs, at 512-232-1160 or <a href="mailto:nsimmons@law.utexas.edu">nsimmons@law.utexas.edu</a>.
END:VEVENT
END:VCALENDAR