BEGIN:VCALENDAR
VERSION:2.0
PRODID:-//UNIVERSITY OF TEXAS SCHOOL OF LAW//NONSGML Events Calendar v1.0//EN
X-WR-TIMEZONE:America/Chicago
BEGIN:VTIMEZONE
TZID:US/Central
X-LIC-LOCATION:America/Chicago
BEGIN:DAYLIGHT
TZOFFSETFROM:-0600
TZOFFSETTO:-0500
TZNAME:CDT
DTSTART:19700308T020000
RRULE:FREQ=YEARLY;BYMONTH=3;BYDAY=2SU
END:DAYLIGHT
BEGIN:STANDARD
TZOFFSETFROM:-0500
TZOFFSETTO:-0600
TZNAME:CST
DTSTART:19701101T020000
RRULE:FREQ=YEARLY;BYMONTH=11;BYDAY=1SU
END:STANDARD
END:VTIMEZONE
BEGIN:VEVENT
DTSTART;TZID=US/Central:20131008T114500
DTEND;VALUE=DATE-TIME;TZID=US/Central:20131008T130000

DTSTAMP:20260422T044700Z
CREATED:20130806T144600Z
LAST-MODIFIED:20131003T190000Z
UID:20131008T114500-17079@law.utexas.edu
SUMMARY:Applying for Judicial Clerkships (Pt. I)
DESCRIPTION:<p>This is the first of a series of meetings for 2Ls and 3Ls who will be applying for 2015-term clerkships.  This meeting is geared towards students who will be applying for the most competitive appellate court clerkships, and will focus on preparation for a January/February application period. UT Law Judicial Clerkship Advisors will discuss how to determine what courts you are competitive for, how to select judges, and how and when to apply for clerkships. For more information, visit the judicial clerkship website. Lunch will be served. RSVP by Monday, October 7, on <a title="UT Law Symplicity" href="https://law-utexas-csm.symplicity.com/students/">UT Law Symplicity</a> by selecting the "Events" tab.</p>\n\nIf you need an accommodation to participate in this event, please contact the event sponsor or the Texas Law Special Events Office at specialevents@law.utexas.edu no later than seven business days prior to the event.
X-ALT-DESC;FMTTYPE=text/html:<p>This is the first of a series of meetings for 2Ls and 3Ls who will be applying for 2015-term clerkships.  This meeting is geared towards students who will be applying for the most competitive appellate court clerkships, and will focus on preparation for a January/February application period. UT Law Judicial Clerkship Advisors will discuss how to determine what courts you are competitive for, how to select judges, and how and when to apply for clerkships. For more information, visit the judicial clerkship website. Lunch will be served. RSVP by Monday, October 7, on <a title="UT Law Symplicity" href="https://law-utexas-csm.symplicity.com/students/">UT Law Symplicity</a> by selecting the "Events" tab.</p><p>If you need an accommodation to participate in this event, please contact the event
                                          event sponsor or the Texas Law Special Events Office at <a href="mailto:specialevents@law.utexas.edu">specialevents@law.utexas.edu</a> no later than seven business days prior to the event.</p>
CATEGORIES:Workshop / Training Program
LOCATION:TNH 2.139 - Wilson Classroom
URL:http://law.utexas.edu/calendar/2013/10/08/17079/
CLASS:PUBLIC
STATUS:CONFIRMED
COMMENT:Please contact Remi Ratliff, Director of Judicial Programs, at <a href="mailto:rratliff@law.utexas.edu">rratliff@law.utexas.edu</a> or 512-232-1163.
END:VEVENT
END:VCALENDAR