BEGIN:VCALENDAR
VERSION:2.0
PRODID:-//UNIVERSITY OF TEXAS SCHOOL OF LAW//NONSGML Events Calendar v1.0//EN
X-WR-TIMEZONE:America/Chicago
BEGIN:VTIMEZONE
TZID:US/Central
X-LIC-LOCATION:America/Chicago
BEGIN:DAYLIGHT
TZOFFSETFROM:-0600
TZOFFSETTO:-0500
TZNAME:CDT
DTSTART:19700308T020000
RRULE:FREQ=YEARLY;BYMONTH=3;BYDAY=2SU
END:DAYLIGHT
BEGIN:STANDARD
TZOFFSETFROM:-0500
TZOFFSETTO:-0600
TZNAME:CST
DTSTART:19701101T020000
RRULE:FREQ=YEARLY;BYMONTH=11;BYDAY=1SU
END:STANDARD
END:VTIMEZONE
BEGIN:VEVENT
DTSTART;TZID=US/Central:20131008T210000


DTSTAMP:20260422T044300Z
CREATED:20130823T180200Z
LAST-MODIFIED:20130823T180200Z
UID:20131008T210000-17176@law.utexas.edu
SUMMARY:Signup for Speed Networking
DESCRIPTION:<p>Sign-up at 9:00 p.m. on TUESDAY, OCTOBER 8 is on a first-come, first-served basis on <a title="UT Law Symplicity" href="https://law-utexas-csm.symplicity.com/students/">UT Law Symplicity</a> . Back by popular demand! Participating UT Law J.D. students will have the opportunity to network one-on-one with legal professionals from a variety of practice areas, as well as fellow students, during several short (8-10 minutes) speed networking rounds prior to Cocktails &amp; Conversation. We request that students commit to attend the entire speed networking portion of the event. Please arrive no later than 5:00 p.m.  Free parking available in the Museum Garage. </p>
  <p>Then afterwards, join us for our 16th Annual Cocktails &amp; Conversation. Your RSVP for Speed Networking will also be noted for Cocktails &amp; Conversation. Dress is business casual.
  </p>\n\nIf you need an accommodation to participate in this event, please contact the event sponsor or the Texas Law Special Events Office at specialevents@law.utexas.edu no later than seven business days prior to the event.
X-ALT-DESC;FMTTYPE=text/html:<p>Sign-up at 9:00 p.m. on TUESDAY, OCTOBER 8 is on a first-come, first-served basis on <a title="UT Law Symplicity" href="https://law-utexas-csm.symplicity.com/students/">UT Law Symplicity</a> . Back by popular demand! Participating UT Law J.D. students will have the opportunity to network one-on-one with legal professionals from a variety of practice areas, as well as fellow students, during several short (8-10 minutes) speed networking rounds prior to Cocktails &amp; Conversation. We request that students commit to attend the entire speed networking portion of the event. Please arrive no later than 5:00 p.m.  Free parking available in the Museum Garage. </p>
  <p>Then afterwards, join us for our 16th Annual Cocktails &amp; Conversation. Your RSVP for Speed Networking will also be noted for Cocktails &amp; Conversation. Dress is business casual.
  </p><p>If you need an accommodation to participate in this event, please contact the event
                                          event sponsor or the Texas Law Special Events Office at <a href="mailto:specialevents@law.utexas.edu">specialevents@law.utexas.edu</a> no later than seven business days prior to the event.</p>
CATEGORIES:Workshop / Training Program

URL:http://law.utexas.edu/calendar/2013/10/08/17176/
CLASS:PUBLIC
STATUS:CONFIRMED
COMMENT:Please contact Deb Freeman, Assistant Director for Communications, at 512-232-2162 or <a href="mailto:dfreeman@law.utexas.edu">dfreeman@law.utexas.edu</a>.
END:VEVENT
END:VCALENDAR