BEGIN:VCALENDAR
VERSION:2.0
PRODID:-//UNIVERSITY OF TEXAS SCHOOL OF LAW//NONSGML Events Calendar v1.0//EN
X-WR-TIMEZONE:America/Chicago
BEGIN:VTIMEZONE
TZID:US/Central
X-LIC-LOCATION:America/Chicago
BEGIN:DAYLIGHT
TZOFFSETFROM:-0600
TZOFFSETTO:-0500
TZNAME:CDT
DTSTART:19700308T020000
RRULE:FREQ=YEARLY;BYMONTH=3;BYDAY=2SU
END:DAYLIGHT
BEGIN:STANDARD
TZOFFSETFROM:-0500
TZOFFSETTO:-0600
TZNAME:CST
DTSTART:19701101T020000
RRULE:FREQ=YEARLY;BYMONTH=11;BYDAY=1SU
END:STANDARD
END:VTIMEZONE
BEGIN:VEVENT
DTSTART;TZID=US/Central:20131009T100000
DTEND;VALUE=DATE-TIME;TZID=US/Central:20131009T140000

DTSTAMP:20260422T031200Z
CREATED:20131001T163700Z
LAST-MODIFIED:20131001T163700Z
UID:20131009T100000-17546@law.utexas.edu
SUMMARY:ASAP_Pumpkins &amp; Poker Tickets
DESCRIPTION:<p>The Abuse Survivors Assistance Program will be selling tickets for the annual Pumpkins &amp; Poker tournament in the Tom Clark Lounge or the Atrium every day starting Wednesday, Oct. 2nd until Thursday, Oct. 10th from 10:00 am until 2:00 pm. </p>
  <p>A $15 ticket ($20 at the door) gets you into the raffle for a bunch of awesome prizes, a free t-shirt, a free drink ticket, and a bag of chips to play your poker heart out. Non-players get a raffle ticket and a t-shirt or drink ticket for only $10 ($12 at the door). </p>
  <p>All proceeds go to assisting survivors of domestic violence. If you have any questions, please feel free to contact us at asapsunflower@gmail.com.</p>\n\nIf you need an accommodation to participate in this event, please contact the event sponsor or the Texas Law Special Events Office at specialevents@law.utexas.edu no later than seven business days prior to the event.
X-ALT-DESC;FMTTYPE=text/html:<p>The Abuse Survivors Assistance Program will be selling tickets for the annual Pumpkins &amp; Poker tournament in the Tom Clark Lounge or the Atrium every day starting Wednesday, Oct. 2nd until Thursday, Oct. 10th from 10:00 am until 2:00 pm. </p>
  <p>A $15 ticket ($20 at the door) gets you into the raffle for a bunch of awesome prizes, a free t-shirt, a free drink ticket, and a bag of chips to play your poker heart out. Non-players get a raffle ticket and a t-shirt or drink ticket for only $10 ($12 at the door). </p>
  <p>All proceeds go to assisting survivors of domestic violence. If you have any questions, please feel free to contact us at asapsunflower@gmail.com.</p><p>If you need an accommodation to participate in this event, please contact the event
                                          event sponsor or the Texas Law Special Events Office at <a href="mailto:specialevents@law.utexas.edu">specialevents@law.utexas.edu</a> no later than seven business days prior to the event.</p>

LOCATION:TNH 2.100 - Susman Godfrey Atrium
URL:http://law.utexas.edu/calendar/2013/10/09/17546/
CLASS:PUBLIC
STATUS:CONFIRMED
COMMENT:https://www.facebook.com/events/238098943009961/
END:VEVENT
END:VCALENDAR