BEGIN:VCALENDAR
VERSION:2.0
PRODID:-//UNIVERSITY OF TEXAS SCHOOL OF LAW//NONSGML Events Calendar v1.0//EN
X-WR-TIMEZONE:America/Chicago
BEGIN:VTIMEZONE
TZID:US/Central
X-LIC-LOCATION:America/Chicago
BEGIN:DAYLIGHT
TZOFFSETFROM:-0600
TZOFFSETTO:-0500
TZNAME:CDT
DTSTART:19700308T020000
RRULE:FREQ=YEARLY;BYMONTH=3;BYDAY=2SU
END:DAYLIGHT
BEGIN:STANDARD
TZOFFSETFROM:-0500
TZOFFSETTO:-0600
TZNAME:CST
DTSTART:19701101T020000
RRULE:FREQ=YEARLY;BYMONTH=11;BYDAY=1SU
END:STANDARD
END:VTIMEZONE
BEGIN:VEVENT
DTSTART;TZID=US/Central:20131011T090000
DTEND;VALUE=DATE-TIME;TZID=US/Central:20131011T100000

DTSTAMP:20260422T072800Z
CREATED:20130613T165600Z
LAST-MODIFIED:20131004T122000Z
UID:20131011T090000-16833@law.utexas.edu
SUMMARY:1L Orientation &amp; Career Planning
DESCRIPTION:<p>This is a mandatory workshop for 1Ls. If you are unable to attend the workshop scheduled for your section, you may attend another session. Please note that first-year students may receive one-on-one career counseling beginning October 15. </p>\n\nIf you need an accommodation to participate in this event, please contact the event sponsor or the Texas Law Special Events Office at specialevents@law.utexas.edu no later than seven business days prior to the event.
X-ALT-DESC;FMTTYPE=text/html:<p>This is a mandatory workshop for 1Ls. If you are unable to attend the workshop scheduled for your section, you may attend another session. Please note that first-year students may receive one-on-one career counseling beginning October 15. </p><p>If you need an accommodation to participate in this event, please contact the event
                                          event sponsor or the Texas Law Special Events Office at <a href="mailto:specialevents@law.utexas.edu">specialevents@law.utexas.edu</a> no later than seven business days prior to the event.</p>
CATEGORIES:Workshop / Training Program
LOCATION:TNH 2.114 - Francis Auditorium
URL:http://law.utexas.edu/calendar/2013/10/11/16833/
CLASS:PUBLIC
STATUS:CONFIRMED
COMMENT:Please contact Angelica Salinas Evans, Associate Director for Career Services, at 512-232-1159 or <a href="mailto:aevans@law.utexas.edu">aevans@law.utexas.edu</a>.
END:VEVENT
END:VCALENDAR