BEGIN:VCALENDAR
VERSION:2.0
PRODID:-//UNIVERSITY OF TEXAS SCHOOL OF LAW//NONSGML Events Calendar v1.0//EN
X-WR-TIMEZONE:America/Chicago
BEGIN:VTIMEZONE
TZID:US/Central
X-LIC-LOCATION:America/Chicago
BEGIN:DAYLIGHT
TZOFFSETFROM:-0600
TZOFFSETTO:-0500
TZNAME:CDT
DTSTART:19700308T020000
RRULE:FREQ=YEARLY;BYMONTH=3;BYDAY=2SU
END:DAYLIGHT
BEGIN:STANDARD
TZOFFSETFROM:-0500
TZOFFSETTO:-0600
TZNAME:CST
DTSTART:19701101T020000
RRULE:FREQ=YEARLY;BYMONTH=11;BYDAY=1SU
END:STANDARD
END:VTIMEZONE
BEGIN:VEVENT
DTSTART;TZID=US/Central:20131015T120000
DTEND;VALUE=DATE-TIME;TZID=US/Central:20131015T130000

DTSTAMP:20260422T044900Z
CREATED:20130822T210400Z
LAST-MODIFIED:20131014T143500Z
UID:20131015T120000-17157@law.utexas.edu
SUMMARY:Environmental Law Internships
DESCRIPTION:<p><a href="http://www.linkedin.com/pub/tom-bohl/10/386/857">Tom Bohl is an assistant attorney general at the Texas Attorney General’s Office</a>, where he has worked for 21 years, defending state environmental appeals in district and appellate courts, prosecuting civil suits to enforce environmental and public health laws, and representing the state in interstate water matters.  Tom will speak about working at a state agency and the attorney general’s internship program. Lunch will be served. RSVP by Monday, October 14, on <a title="UT Law Symplicity" href="https://law-utexas-csm.symplicity.com/students/">UT Law Symplicity</a> by selecting the 'Events' tab.</p>
  <p>The Energy Center Distinguished Lecture Series brings energy and environmental law speakers to campus to speak with UT Law students and faculty. Sponsored by The Center for Global Energy, International Arbitration and Environmental Law; the Environmental Law Society; the Texas Journal of Oil, Gas and Energy Law; the Student Animal Legal Defense Fund; and the Career Services Office.</p>\n\nIf you need an accommodation to participate in this event, please contact the event sponsor or the Texas Law Special Events Office at specialevents@law.utexas.edu no later than seven business days prior to the event.
X-ALT-DESC;FMTTYPE=text/html:<p><a href="http://www.linkedin.com/pub/tom-bohl/10/386/857">Tom Bohl is an assistant attorney general at the Texas Attorney General’s Office</a>, where he has worked for 21 years, defending state environmental appeals in district and appellate courts, prosecuting civil suits to enforce environmental and public health laws, and representing the state in interstate water matters.  Tom will speak about working at a state agency and the attorney general’s internship program. Lunch will be served. RSVP by Monday, October 14, on <a title="UT Law Symplicity" href="https://law-utexas-csm.symplicity.com/students/">UT Law Symplicity</a> by selecting the 'Events' tab.</p>
  <p>The Energy Center Distinguished Lecture Series brings energy and environmental law speakers to campus to speak with UT Law students and faculty. Sponsored by The Center for Global Energy, International Arbitration and Environmental Law; the Environmental Law Society; the Texas Journal of Oil, Gas and Energy Law; the Student Animal Legal Defense Fund; and the Career Services Office.</p><p>If you need an accommodation to participate in this event, please contact the event
                                          event sponsor or the Texas Law Special Events Office at <a href="mailto:specialevents@law.utexas.edu">specialevents@law.utexas.edu</a> no later than seven business days prior to the event.</p>
CATEGORIES:Lunch
LOCATION:TNH 3.125 - Denius Classroom
URL:http://law.utexas.edu/calendar/2013/10/15/17157/
CLASS:PUBLIC
STATUS:CONFIRMED
COMMENT:Please contact Gena Dawson at <a href="mailto:gdawson@law.utexas.edu">gdawson@law.utexas.edu.</a>
END:VEVENT
END:VCALENDAR