BEGIN:VCALENDAR
VERSION:2.0
PRODID:-//UNIVERSITY OF TEXAS SCHOOL OF LAW//NONSGML Events Calendar v1.0//EN
X-WR-TIMEZONE:America/Chicago
BEGIN:VTIMEZONE
TZID:US/Central
X-LIC-LOCATION:America/Chicago
BEGIN:DAYLIGHT
TZOFFSETFROM:-0600
TZOFFSETTO:-0500
TZNAME:CDT
DTSTART:19700308T020000
RRULE:FREQ=YEARLY;BYMONTH=3;BYDAY=2SU
END:DAYLIGHT
BEGIN:STANDARD
TZOFFSETFROM:-0500
TZOFFSETTO:-0600
TZNAME:CST
DTSTART:19701101T020000
RRULE:FREQ=YEARLY;BYMONTH=11;BYDAY=1SU
END:STANDARD
END:VTIMEZONE
BEGIN:VEVENT
DTSTART;TZID=US/Central:20131015T173000
DTEND;VALUE=DATE-TIME;TZID=US/Central:20131015T183000

DTSTAMP:20260422T060300Z
CREATED:20130925T212200Z
LAST-MODIFIED:20130925T212400Z
UID:20131015T173000-17502@law.utexas.edu
SUMMARY:DACA Clinic - Volunteer Training
DESCRIPTION:<p>The UT Law Immigration Clinic and Pro Bono Program are hosting a clinic on October 20th to assist pro se petitioners in applying for the Deferred Action for Childhood Arrivals (DACA).  This is the training for that event.</p>
  <p>To sin up: Send an email to Andrew Hill at ahill@law.utexas.edu.</p>
  <p>For questions, please contact Andrea Meza at ameza0317@gmail.com.</p>\n\nIf you need an accommodation to participate in this event, please contact the event sponsor or the Texas Law Special Events Office at specialevents@law.utexas.edu no later than seven business days prior to the event.
X-ALT-DESC;FMTTYPE=text/html:<p>The UT Law Immigration Clinic and Pro Bono Program are hosting a clinic on October 20th to assist pro se petitioners in applying for the Deferred Action for Childhood Arrivals (DACA).  This is the training for that event.</p>
  <p>To sin up: Send an email to Andrew Hill at ahill@law.utexas.edu.</p>
  <p>For questions, please contact Andrea Meza at ameza0317@gmail.com.</p><p>If you need an accommodation to participate in this event, please contact the event
                                          event sponsor or the Texas Law Special Events Office at <a href="mailto:specialevents@law.utexas.edu">specialevents@law.utexas.edu</a> no later than seven business days prior to the event.</p>
CATEGORIES:Other
LOCATION:TNH 2.140 - Wright Classroom
URL:http://law.utexas.edu/calendar/2013/10/15/17502/
CLASS:PUBLIC
STATUS:CONFIRMED

END:VEVENT
END:VCALENDAR