BEGIN:VCALENDAR
VERSION:2.0
PRODID:-//UNIVERSITY OF TEXAS SCHOOL OF LAW//NONSGML Events Calendar v1.0//EN
X-WR-TIMEZONE:America/Chicago
BEGIN:VTIMEZONE
TZID:US/Central
X-LIC-LOCATION:America/Chicago
BEGIN:DAYLIGHT
TZOFFSETFROM:-0600
TZOFFSETTO:-0500
TZNAME:CDT
DTSTART:19700308T020000
RRULE:FREQ=YEARLY;BYMONTH=3;BYDAY=2SU
END:DAYLIGHT
BEGIN:STANDARD
TZOFFSETFROM:-0500
TZOFFSETTO:-0600
TZNAME:CST
DTSTART:19701101T020000
RRULE:FREQ=YEARLY;BYMONTH=11;BYDAY=1SU
END:STANDARD
END:VTIMEZONE
BEGIN:VEVENT
DTSTART;TZID=US/Central:20131015T113000
DTEND;VALUE=DATE-TIME;TZID=US/Central:20131015T130000

DTSTAMP:20260422T044700Z
CREATED:20130927T110800Z
LAST-MODIFIED:20130927T110800Z
UID:20131015T113000-17519@law.utexas.edu
SUMMARY:CANCELED: Tuesday Power Lunch Series
DESCRIPTION:<p>This program will teach law students the meaning of organizational power and provide them with an understanding of how to gain and utilize that power in an effective and positive manner to achieve career success.</p>
  <p>The PLS lessons are from the 2011 Women’s Power Summit on Law &amp; Leadership. Hear video replays of two of the most thought-provoking panels of the summit. Each video will be followed by a discussion session with guest attorneys the subsequent week.</p>
  <p>You must commit to a full course, as the video and discussion are designed to work together:</p>
  <p>Course I: Jeffery Pfeffer, "Power: How to Get It, Use It, and Keep It" | October 8: Video | October 15: Discussion</p>
  <p>Course II: Distinguished Women Lawyers, "Leveraging Power Into New Opportunities" | October 22: Video | October 29: Discussion</p>
  <p>RSVP to  or 512-232-1911.
  </p>\n\nIf you need an accommodation to participate in this event, please contact the event sponsor or the Texas Law Special Events Office at specialevents@law.utexas.edu no later than seven business days prior to the event.
X-ALT-DESC;FMTTYPE=text/html:<p>This program will teach law students the meaning of organizational power and provide them with an understanding of how to gain and utilize that power in an effective and positive manner to achieve career success.</p>
  <p>The PLS lessons are from the 2011 Women’s Power Summit on Law &amp; Leadership. Hear video replays of two of the most thought-provoking panels of the summit. Each video will be followed by a discussion session with guest attorneys the subsequent week.</p>
  <p>You must commit to a full course, as the video and discussion are designed to work together:</p>
  <p>Course I: Jeffery Pfeffer, "Power: How to Get It, Use It, and Keep It" | October 8: Video | October 15: Discussion</p>
  <p>Course II: Distinguished Women Lawyers, "Leveraging Power Into New Opportunities" | October 22: Video | October 29: Discussion</p>
  <p>RSVP to  or 512-232-1911.
  </p><p>If you need an accommodation to participate in this event, please contact the event
                                          event sponsor or the Texas Law Special Events Office at <a href="mailto:specialevents@law.utexas.edu">specialevents@law.utexas.edu</a> no later than seven business days prior to the event.</p>
CATEGORIES:Lunch
LOCATION:TNH 3.129 - Atlas Seminar Room
URL:http://law.utexas.edu/calendar/2013/10/15/17519/
CLASS:PUBLIC
STATUS:CANCELLED
COMMENT:Contact Melissa at mgalusky@law.utexas.edu or (512) 232-1911
END:VEVENT
END:VCALENDAR