BEGIN:VCALENDAR
VERSION:2.0
PRODID:-//UNIVERSITY OF TEXAS SCHOOL OF LAW//NONSGML Events Calendar v1.0//EN
X-WR-TIMEZONE:America/Chicago
BEGIN:VTIMEZONE
TZID:US/Central
X-LIC-LOCATION:America/Chicago
BEGIN:DAYLIGHT
TZOFFSETFROM:-0600
TZOFFSETTO:-0500
TZNAME:CDT
DTSTART:19700308T020000
RRULE:FREQ=YEARLY;BYMONTH=3;BYDAY=2SU
END:DAYLIGHT
BEGIN:STANDARD
TZOFFSETFROM:-0500
TZOFFSETTO:-0600
TZNAME:CST
DTSTART:19701101T020000
RRULE:FREQ=YEARLY;BYMONTH=11;BYDAY=1SU
END:STANDARD
END:VTIMEZONE
BEGIN:VEVENT
DTSTART;TZID=US/Central:20131017T120000
DTEND;VALUE=DATE-TIME;TZID=US/Central:20131017T130000

DTSTAMP:20260422T031300Z
CREATED:20130605T162100Z
LAST-MODIFIED:20131016T134200Z
UID:20131017T120000-16753@law.utexas.edu
SUMMARY:1L Resume Workshop
DESCRIPTION:<p>Learn how to effectively tailor your resume for various legal jobs in the private and public sector. Please bring your laptop and draft legal style resume to the workshop. Examples of resumes are provided in the CSO Career Development Handbook that you will receive during the 1L Orientation and Career Development Workshops. All 1Ls must submit a copy of your resume to the CSO at least 24 hours prior to your first career counseling appointment, which will take place after October 15. </p>\n\nIf you need an accommodation to participate in this event, please contact the event sponsor or the Texas Law Special Events Office at specialevents@law.utexas.edu no later than seven business days prior to the event.
X-ALT-DESC;FMTTYPE=text/html:<p>Learn how to effectively tailor your resume for various legal jobs in the private and public sector. Please bring your laptop and draft legal style resume to the workshop. Examples of resumes are provided in the CSO Career Development Handbook that you will receive during the 1L Orientation and Career Development Workshops. All 1Ls must submit a copy of your resume to the CSO at least 24 hours prior to your first career counseling appointment, which will take place after October 15. </p><p>If you need an accommodation to participate in this event, please contact the event
                                          event sponsor or the Texas Law Special Events Office at <a href="mailto:specialevents@law.utexas.edu">specialevents@law.utexas.edu</a> no later than seven business days prior to the event.</p>
CATEGORIES:Workshop / Training Program
LOCATION:TNH 3.140 - Jeffers Courtroom
URL:http://law.utexas.edu/calendar/2013/10/17/16753/
CLASS:PUBLIC
STATUS:CONFIRMED
COMMENT:Please contact Angelica Salinas Evans, Associate Director for Career Services, at 512-232-1159 or <a href="mailto:aevans@law.utexas.edu">aevans@law.utexas.edu</a>.
END:VEVENT
END:VCALENDAR